{"text_format":"3","workbook":"xlsx","n_sheets":1,"sheets":["Sheet1"],"not_rendered":{"external_links":1,"defined_names":1},"read":"whole","date_system":"1900"}

{"sheet":"Sheet1","index":0,"n_rows":615,"n_cols":3,"rows_kept":615}
["单位名称","隶属关系","企业所在地"]
["广东建邦兴业集团有限公司","部级",{"$f":"VLOOKUP(A2,'[1]2024年薪酬调查定点调查企业名单'!$B:$E,4,0)","v":"开平市"}]
["江门市裕源印刷有限公司","部级",{"$f":"VLOOKUP(A3,'[1]2024年薪酬调查定点调查企业名单'!$B:$E,4,0)","v":"蓬江区"}]
["江门科朗农业科技有限公司","部级",{"$f":"VLOOKUP(A4,'[1]2024年薪酬调查定点调查企业名单'!$B:$E,4,0)","v":"台山市"}]
["鹤山市精工制版有限公司","部级",{"$f":"VLOOKUP(A5,'[1]2024年薪酬调查定点调查企业名单'!$B:$E,4,0)","v":"鹤山市"}]
["广东正美灯饰照明有限公司","部级",{"$f":"VLOOKUP(A6,'[1]2024年薪酬调查定点调查企业名单'!$B:$E,4,0)","v":"蓬江区"}]
["广东鹏大五金制品有限公司","部级",{"$f":"VLOOKUP(A7,'[1]2024年薪酬调查定点调查企业名单'!$B:$E,4,0)","v":"开平市"}]
["江门逸金酒店有限公司","部级",{"$f":"VLOOKUP(A8,'[1]2024年薪酬调查定点调查企业名单'!$B:$E,4,0)","v":"蓬江区"}]
["江门市昌大昌超级购物广场有限公司开平东汇城店","部级",{"$f":"VLOOKUP(A9,'[1]2024年薪酬调查定点调查企业名单'!$B:$E,4,0)","v":"开平市"}]
["江门市人人乐商业有限公司","部级",{"$f":"VLOOKUP(A10,'[1]2024年薪酬调查定点调查企业名单'!$B:$E,4,0)","v":"蓬江区"}]
["江门市蓬江区爱华贸易有限公司","部级",{"$f":"VLOOKUP(A11,'[1]2024年薪酬调查定点调查企业名单'!$B:$E,4,0)","v":"蓬江区"}]
["江门市江海区浩源物业有限公司","部级",{"$f":"VLOOKUP(A12,'[1]2024年薪酬调查定点调查企业名单'!$B:$E,4,0)","v":"江海区"}]
["江门气派摩托车有限公司","部级",{"$f":"VLOOKUP(A13,'[1]2024年薪酬调查定点调查企业名单'!$B:$E,4,0)","v":"新会区"}]
["江门顺兴吸塑厂有限公司","部级",{"$f":"VLOOKUP(A14,'[1]2024年薪酬调查定点调查企业名单'!$B:$E,4,0)","v":"江海区"}]
["广东奥赛纺织有限公司","部级",{"$f":"VLOOKUP(A15,'[1]2024年薪酬调查定点调查企业名单'!$B:$E,4,0)","v":"新会区"}]
["江门市中港宝田摩托车实业有限公司","部级",{"$f":"VLOOKUP(A16,'[1]2024年薪酬调查定点调查企业名单'!$B:$E,4,0)","v":"江海区"}]
["鹤山市建筑机械厂有限公司","部级",{"$f":"VLOOKUP(A17,'[1]2024年薪酬调查定点调查企业名单'!$B:$E,4,0)","v":"鹤山市"}]
["江门市新会区汇中运输有限公司","部级",{"$f":"VLOOKUP(A18,'[1]2024年薪酬调查定点调查企业名单'!$B:$E,4,0)","v":"新会区"}]
["江门市勘测院有限公司","部级",{"$f":"VLOOKUP(A19,'[1]2024年薪酬调查定点调查企业名单'!$B:$E,4,0)","v":"蓬江区"}]
["江门市金卫士物业管理有限公司","部级",{"$f":"VLOOKUP(A20,'[1]2024年薪酬调查定点调查企业名单'!$B:$E,4,0)","v":"江海区"}]
["江门艾力克五金制品厂有限公司","部级",{"$f":"VLOOKUP(A21,'[1]2024年薪酬调查定点调查企业名单'!$B:$E,4,0)","v":"江海区"}]
["江门市新会区弘诺物业管理有限公司","部级",{"$f":"VLOOKUP(A22,'[1]2024年薪酬调查定点调查企业名单'!$B:$E,4,0)","v":"新会区"}]
["江门联福科技纺织彩印有限公司","部级",{"$f":"VLOOKUP(A23,'[1]2024年薪酬调查定点调查企业名单'!$B:$E,4,0)","v":"江海区"}]
["江门安磁电子有限公司","部级",{"$f":"VLOOKUP(A24,'[1]2024年薪酬调查定点调查企业名单'!$B:$E,4,0)","v":"江海区"}]
["开平达丰纺织印染服装有限公司","部级",{"$f":"VLOOKUP(A25,'[1]2024年薪酬调查定点调查企业名单'!$B:$E,4,0)","v":"开平市"}]
["鹤山北丰家用纺织品有限公司","部级",{"$f":"VLOOKUP(A26,'[1]2024年薪酬调查定点调查企业名单'!$B:$E,4,0)","v":"鹤山市"}]
["鹤山倍狮科技有限公司","部级",{"$f":"VLOOKUP(A27,'[1]2024年薪酬调查定点调查企业名单'!$B:$E,4,0)","v":"鹤山市"}]
["鹤山鑫权文具有限公司","部级",{"$f":"VLOOKUP(A28,'[1]2024年薪酬调查定点调查企业名单'!$B:$E,4,0)","v":"鹤山市"}]
["江门亿都半导体有限公司","部级",{"$f":"VLOOKUP(A29,'[1]2024年薪酬调查定点调查企业名单'!$B:$E,4,0)","v":"蓬江区"}]
["鸿兴印刷（鹤山）有限公司","部级",{"$f":"VLOOKUP(A30,'[1]2024年薪酬调查定点调查企业名单'!$B:$E,4,0)","v":"鹤山市"}]
["鹤山豪泉纺织有限公司","部级",{"$f":"VLOOKUP(A31,'[1]2024年薪酬调查定点调查企业名单'!$B:$E,4,0)","v":"鹤山市"}]
["新会日兴不锈钢制品有限公司","部级",{"$f":"VLOOKUP(A32,'[1]2024年薪酬调查定点调查企业名单'!$B:$E,4,0)","v":"新会区"}]
["江门市新会区大新化学纤维厂","部级",{"$f":"VLOOKUP(A33,'[1]2024年薪酬调查定点调查企业名单'!$B:$E,4,0)","v":"新会区"}]
["江门市玉湖御景酒店有限公司","部级",{"$f":"VLOOKUP(A34,'[1]2024年薪酬调查定点调查企业名单'!$B:$E,4,0)","v":"新会区"}]
["广东高正信息科技股份有限公司","部级",{"$f":"VLOOKUP(A35,'[1]2024年薪酬调查定点调查企业名单'!$B:$E,4,0)","v":"蓬江区"}]
["江门地王商业有限公司","部级",{"$f":"VLOOKUP(A36,'[1]2024年薪酬调查定点调查企业名单'!$B:$E,4,0)","v":"蓬江区"}]
["江门五邑高尔夫球场娱乐有限公司","部级",{"$f":"VLOOKUP(A37,'[1]2024年薪酬调查定点调查企业名单'!$B:$E,4,0)","v":"蓬江区"}]
["江门市激扬水族器材有限公司","部级",{"$f":"VLOOKUP(A38,'[1]2024年薪酬调查定点调查企业名单'!$B:$E,4,0)","v":"蓬江区"}]
["广东道氏技术股份有限公司","部级",{"$f":"VLOOKUP(A39,'[1]2024年薪酬调查定点调查企业名单'!$B:$E,4,0)","v":"恩平市"}]
["江门荣信电路板有限公司","部级",{"$f":"VLOOKUP(A40,'[1]2024年薪酬调查定点调查企业名单'!$B:$E,4,0)","v":"江海区"}]
["西铁城精电科技（江门）有限公司","部级",{"$f":"VLOOKUP(A41,'[1]2024年薪酬调查定点调查企业名单'!$B:$E,4,0)","v":"江海区"}]
["江门市安诺特炊具制造有限公司","部级",{"$f":"VLOOKUP(A42,'[1]2024年薪酬调查定点调查企业名单'!$B:$E,4,0)","v":"江海区"}]
["江门市蓬江区容氏皮革制品厂","部级",{"$f":"VLOOKUP(A43,'[1]2024年薪酬调查定点调查企业名单'!$B:$E,4,0)","v":"蓬江区"}]
["江门市文旅交通投资集团有限公司","部级",{"$f":"VLOOKUP(A44,'[1]2024年薪酬调查定点调查企业名单'!$B:$E,4,0)","v":"蓬江区"}]
["台山信昌塑料制品有限公司","部级",{"$f":"VLOOKUP(A45,'[1]2024年薪酬调查定点调查企业名单'!$B:$E,4,0)","v":"台山市"}]
["亿迅（台山）金属制品有限公司","部级",{"$f":"VLOOKUP(A46,'[1]2024年薪酬调查定点调查企业名单'!$B:$E,4,0)","v":"台山市"}]
["开平奔达纺织有限公司","部级",{"$f":"VLOOKUP(A47,'[1]2024年薪酬调查定点调查企业名单'!$B:$E,4,0)","v":"开平市"}]
["开平市向阳花第一幼儿园","部级",{"$f":"VLOOKUP(A48,'[1]2024年薪酬调查定点调查企业名单'!$B:$E,4,0)","v":"开平市"}]
["广东开阳高速公路有限公司","部级",{"$f":"VLOOKUP(A49,'[1]2024年薪酬调查定点调查企业名单'!$B:$E,4,0)","v":"开平市"}]
["台山东明三耳印铁制罐有限公司","部级",{"$f":"VLOOKUP(A50,'[1]2024年薪酬调查定点调查企业名单'!$B:$E,4,0)","v":"台山市"}]
["开平奔达兴富纺织有限公司","部级",{"$f":"VLOOKUP(A51,'[1]2024年薪酬调查定点调查企业名单'!$B:$E,4,0)","v":"开平市"}]
["捷德纺织（台山）有限公司","部级",{"$f":"VLOOKUP(A52,'[1]2024年薪酬调查定点调查企业名单'!$B:$E,4,0)","v":"台山市"}]
["台山市冠荣金属制品有限公司","部级",{"$f":"VLOOKUP(A53,'[1]2024年薪酬调查定点调查企业名单'!$B:$E,4,0)","v":"台山市"}]
["宝豪塑胶五金制品（江门）有限公司","部级",{"$f":"VLOOKUP(A54,'[1]2024年薪酬调查定点调查企业名单'!$B:$E,4,0)","v":"新会区"}]
["开平兴时年服装有限公司","部级",{"$f":"VLOOKUP(A55,'[1]2024年薪酬调查定点调查企业名单'!$B:$E,4,0)","v":"开平市"}]
["开平依利安达电子第五有限公司","部级",{"$f":"VLOOKUP(A56,'[1]2024年薪酬调查定点调查企业名单'!$B:$E,4,0)","v":"开平市"}]
["江门市保安服务有限公司","部级",{"$f":"VLOOKUP(A57,'[1]2024年薪酬调查定点调查企业名单'!$B:$E,4,0)","v":"蓬江区"}]
["江门市怡润机电设备工程有限公司","部级",{"$f":"VLOOKUP(A58,'[1]2024年薪酬调查定点调查企业名单'!$B:$E,4,0)","v":"蓬江区"}]
["明原钢模机械工业有限公司","部级",{"$f":"VLOOKUP(A59,'[1]2024年薪酬调查定点调查企业名单'!$B:$E,4,0)","v":"蓬江区"}]
["江门市蓬江区恒志汽车贸易有限公司","部级",{"$f":"VLOOKUP(A60,'[1]2024年薪酬调查定点调查企业名单'!$B:$E,4,0)","v":"蓬江区"}]
["开平温氏农牧有限公司","部级",{"$f":"VLOOKUP(A61,'[1]2024年薪酬调查定点调查企业名单'!$B:$E,4,0)","v":"开平市"}]
["恩平市保安服务公司","部级",{"$f":"VLOOKUP(A62,'[1]2024年薪酬调查定点调查企业名单'!$B:$E,4,0)","v":"恩平市"}]
["台山市江口电器制造有限公司","部级",{"$f":"VLOOKUP(A63,'[1]2024年薪酬调查定点调查企业名单'!$B:$E,4,0)","v":"台山市"}]
["台山市长兴建筑工程有限公司","部级",{"$f":"VLOOKUP(A64,'[1]2024年薪酬调查定点调查企业名单'!$B:$E,4,0)","v":"台山市"}]
["江门华润万家生活超市有限公司台城分店","部级",{"$f":"VLOOKUP(A65,'[1]2024年薪酬调查定点调查企业名单'!$B:$E,4,0)","v":"台山市"}]
["广东建成机械设备有限公司","部级",{"$f":"VLOOKUP(A66,'[1]2024年薪酬调查定点调查企业名单'!$B:$E,4,0)","v":"开平市"}]
["开平市信盈计算机工程有限公司","部级",{"$f":"VLOOKUP(A67,'[1]2024年薪酬调查定点调查企业名单'!$B:$E,4,0)","v":"开平市"}]
["江门富港实业有限公司","部级",{"$f":"VLOOKUP(A68,'[1]2024年薪酬调查定点调查企业名单'!$B:$E,4,0)","v":"开平市"}]
["海鸿电气有限公司","部级",{"$f":"VLOOKUP(A69,'[1]2024年薪酬调查定点调查企业名单'!$B:$E,4,0)","v":"开平市"}]
["广东新会罗坑电力线路器材有限公司","部级",{"$f":"VLOOKUP(A70,'[1]2024年薪酬调查定点调查企业名单'!$B:$E,4,0)","v":"新会区"}]
["江门市新会区二轻机械厂有限公司","部级",{"$f":"VLOOKUP(A71,'[1]2024年薪酬调查定点调查企业名单'!$B:$E,4,0)","v":"新会区"}]
["江门葵城保安服务有限公司","部级",{"$f":"VLOOKUP(A72,'[1]2024年薪酬调查定点调查企业名单'!$B:$E,4,0)","v":"新会区"}]
["广东台山农村商业银行股份有限公司","部级",{"$f":"VLOOKUP(A73,'[1]2024年薪酬调查定点调查企业名单'!$B:$E,4,0)","v":"台山市"}]
["江门华润万家生活超市有限公司新会店","部级",{"$f":"VLOOKUP(A74,'[1]2024年薪酬调查定点调查企业名单'!$B:$E,4,0)","v":"新会区"}]
["江门市新会区会城建筑工程有限公司","部级",{"$f":"VLOOKUP(A75,'[1]2024年薪酬调查定点调查企业名单'!$B:$E,4,0)","v":"新会区"}]
["台山城市市政设施管理有限公司","部级",{"$f":"VLOOKUP(A76,'[1]2024年薪酬调查定点调查企业名单'!$B:$E,4,0)","v":"台山市"}]
["江门市新会区会城新胜日用工艺品厂","部级",{"$f":"VLOOKUP(A77,'[1]2024年薪酬调查定点调查企业名单'!$B:$E,4,0)","v":"新会区"}]
["江门市新会区华侨制衣进出口有限公司","部级",{"$f":"VLOOKUP(A78,'[1]2024年薪酬调查定点调查企业名单'!$B:$E,4,0)","v":"新会区"}]
["广东大丰新材料有限公司","部级",{"$f":"VLOOKUP(A79,'[1]2024年薪酬调查定点调查企业名单'!$B:$E,4,0)","v":"新会区"}]
["江门市桥裕纸业有限公司","部级",{"$f":"VLOOKUP(A80,'[1]2024年薪酬调查定点调查企业名单'!$B:$E,4,0)","v":"新会区"}]
["江门市新会华源管桩有限公司","部级",{"$f":"VLOOKUP(A81,'[1]2024年薪酬调查定点调查企业名单'!$B:$E,4,0)","v":"新会区"}]
["江门市新会区天健家具有限公司","部级",{"$f":"VLOOKUP(A82,'[1]2024年薪酬调查定点调查企业名单'!$B:$E,4,0)","v":"新会区"}]
["江门市新会区银湖纸业有限公司","部级",{"$f":"VLOOKUP(A83,'[1]2024年薪酬调查定点调查企业名单'!$B:$E,4,0)","v":"新会区"}]
["广东绿岛风空气系统股份有限公司","部级",{"$f":"VLOOKUP(A84,'[1]2024年薪酬调查定点调查企业名单'!$B:$E,4,0)","v":"台山市"}]
["江门市鸿源实业有限公司","部级",{"$f":"VLOOKUP(A85,'[1]2024年薪酬调查定点调查企业名单'!$B:$E,4,0)","v":"蓬江区"}]
["江门市蓬江区宝盛纸制品厂","部级",{"$f":"VLOOKUP(A86,'[1]2024年薪酬调查定点调查企业名单'!$B:$E,4,0)","v":"蓬江区"}]
["恩平市南美美食城","部级",{"$f":"VLOOKUP(A87,'[1]2024年薪酬调查定点调查企业名单'!$B:$E,4,0)","v":"恩平市"}]
["江门市江诚实业有限公司","部级",{"$f":"VLOOKUP(A88,'[1]2024年薪酬调查定点调查企业名单'!$B:$E,4,0)","v":"蓬江区"}]
["江门市千洋贸易有限公司","部级",{"$f":"VLOOKUP(A89,'[1]2024年薪酬调查定点调查企业名单'!$B:$E,4,0)","v":"蓬江区"}]
["江门市蓬江区德信电器有限公司","部级",{"$f":"VLOOKUP(A90,'[1]2024年薪酬调查定点调查企业名单'!$B:$E,4,0)","v":"蓬江区"}]
["江门市蓬江区港口加油站","部级",{"$f":"VLOOKUP(A91,'[1]2024年薪酬调查定点调查企业名单'!$B:$E,4,0)","v":"蓬江区"}]
["江门市华日摩托车配件有限公司","部级",{"$f":"VLOOKUP(A92,'[1]2024年薪酬调查定点调查企业名单'!$B:$E,4,0)","v":"蓬江区"}]
["广东南秀古建筑石雕园林工程有限公司","部级",{"$f":"VLOOKUP(A93,'[1]2024年薪酬调查定点调查企业名单'!$B:$E,4,0)","v":"蓬江区"}]
["广东粤轻卫浴科技有限公司","部级",{"$f":"VLOOKUP(A94,'[1]2024年薪酬调查定点调查企业名单'!$B:$E,4,0)","v":"开平市"}]
["广东珍宝健康日用品科技有限公司","部级",{"$f":"VLOOKUP(A95,'[1]2024年薪酬调查定点调查企业名单'!$B:$E,4,0)","v":"鹤山市"}]
["鹤山市明可达实业有限公司","部级",{"$f":"VLOOKUP(A96,'[1]2024年薪酬调查定点调查企业名单'!$B:$E,4,0)","v":"鹤山市"}]
["华林证券股份有限公司江门港口路证券营业部","部级",{"$f":"VLOOKUP(A97,'[1]2024年薪酬调查定点调查企业名单'!$B:$E,4,0)","v":"蓬江区"}]
["开平市宝来塑胶制品有限公司","部级",{"$f":"VLOOKUP(A98,'[1]2024年薪酬调查定点调查企业名单'!$B:$E,4,0)","v":"开平市"}]
["广东仁乐药业有限公司","部级",{"$f":"VLOOKUP(A99,'[1]2024年薪酬调查定点调查企业名单'!$B:$E,4,0)","v":"开平市"}]
["广东开兰面粉有限公司","部级",{"$f":"VLOOKUP(A100,'[1]2024年薪酬调查定点调查企业名单'!$B:$E,4,0)","v":"开平市"}]
["广东汇龙涂料有限公司","部级",{"$f":"VLOOKUP(A101,'[1]2024年薪酬调查定点调查企业名单'!$B:$E,4,0)","v":"鹤山市"}]
["江门市科蓝环保设备有限公司","部级",{"$f":"VLOOKUP(A102,'[1]2024年薪酬调查定点调查企业名单'!$B:$E,4,0)","v":"鹤山市"}]
["鹤山市君子兰涂料有限公司","部级",{"$f":"VLOOKUP(A103,'[1]2024年薪酬调查定点调查企业名单'!$B:$E,4,0)","v":"鹤山市"}]
["广东盈晖人力资源管理有限公司","部级",{"$f":"VLOOKUP(A104,'[1]2024年薪酬调查定点调查企业名单'!$B:$E,4,0)","v":"蓬江区"}]
["鹤山市坚美物业管理有限公司","部级",{"$f":"VLOOKUP(A105,'[1]2024年薪酬调查定点调查企业名单'!$B:$E,4,0)","v":"鹤山市"}]
["广东电网有限责任公司江门新会供电局","部级",{"$f":"VLOOKUP(A106,'[1]2024年薪酬调查定点调查企业名单'!$B:$E,4,0)","v":"新会区"}]
["中国人民财产保险股份有限公司江门市分公司","部级",{"$f":"VLOOKUP(A107,'[1]2024年薪酬调查定点调查企业名单'!$B:$E,4,0)","v":"蓬江区"}]
["鹤山市为民物业管理有限公司","部级",{"$f":"VLOOKUP(A108,'[1]2024年薪酬调查定点调查企业名单'!$B:$E,4,0)","v":"鹤山市"}]
["江门华润燃气有限公司","部级",{"$f":"VLOOKUP(A109,'[1]2024年薪酬调查定点调查企业名单'!$B:$E,4,0)","v":"蓬江区"}]
["江门市蓬江区保安服务有限公司","部级",{"$f":"VLOOKUP(A110,'[1]2024年薪酬调查定点调查企业名单'!$B:$E,4,0)","v":"蓬江区"}]
["广东墟岗黄家禽种业集团有限公司","部级",{"$f":"VLOOKUP(A111,'[1]2024年薪酬调查定点调查企业名单'!$B:$E,4,0)","v":"鹤山市"}]
["江门保利宏信房地产开发有限公司","部级",{"$f":"VLOOKUP(A112,'[1]2024年薪酬调查定点调查企业名单'!$B:$E,4,0)","v":"蓬江区"}]
["台山市河东禽业有限公司","部级",{"$f":"VLOOKUP(A113,'[1]2024年薪酬调查定点调查企业名单'!$B:$E,4,0)","v":"台山市"}]
["明新弹性织物中国有限公司","部级",{"$f":"VLOOKUP(A114,'[1]2024年薪酬调查定点调查企业名单'!$B:$E,4,0)","v":"新会区"}]
["鹤山市经纬物业管理有限公司","部级",{"$f":"VLOOKUP(A115,'[1]2024年薪酬调查定点调查企业名单'!$B:$E,4,0)","v":"鹤山市"}]
["江门公用水务环境股份有限公司","部级",{"$f":"VLOOKUP(A116,'[1]2024年薪酬调查定点调查企业名单'!$B:$E,4,0)","v":"蓬江区"}]
["台山市永和综合市场服务管理有限公司","部级",{"$f":"VLOOKUP(A117,'[1]2024年薪酬调查定点调查企业名单'!$B:$E,4,0)","v":"台山市"}]
["鹤山西江医院（普通合伙）","部级",{"$f":"VLOOKUP(A118,'[1]2024年薪酬调查定点调查企业名单'!$B:$E,4,0)","v":"鹤山市"}]
["江门市杰信通信工程有限公司","部级",{"$f":"VLOOKUP(A119,'[1]2024年薪酬调查定点调查企业名单'!$B:$E,4,0)","v":"蓬江区"}]
["江门市蓬江区柏慕汽车驾驶培训有限公司","部级",{"$f":"VLOOKUP(A120,'[1]2024年薪酬调查定点调查企业名单'!$B:$E,4,0)","v":"蓬江区"}]
["江门市捷宏一品汽车驾驶培训学校有限公司","部级",{"$f":"VLOOKUP(A121,'[1]2024年薪酬调查定点调查企业名单'!$B:$E,4,0)","v":"蓬江区"}]
["江门市蓬江区安然物业管理有限公司","部级",{"$f":"VLOOKUP(A122,'[1]2024年薪酬调查定点调查企业名单'!$B:$E,4,0)","v":"蓬江区"}]
["鹤山市沙坪兴华汽车修配厂","部级",{"$f":"VLOOKUP(A123,'[1]2024年薪酬调查定点调查企业名单'!$B:$E,4,0)","v":"鹤山市"}]
["江门市俭美实业有限公司","部级",{"$f":"VLOOKUP(A124,'[1]2024年薪酬调查定点调查企业名单'!$B:$E,4,0)","v":"新会区"}]
["江门市盛阳五金制品有限公司","部级",{"$f":"VLOOKUP(A125,'[1]2024年薪酬调查定点调查企业名单'!$B:$E,4,0)","v":"新会区"}]
["江门市金盟模特儿衣架有限公司","部级",{"$f":"VLOOKUP(A126,'[1]2024年薪酬调查定点调查企业名单'!$B:$E,4,0)","v":"新会区"}]
["江门安迪科技工业有限公司","部级",{"$f":"VLOOKUP(A127,'[1]2024年薪酬调查定点调查企业名单'!$B:$E,4,0)","v":"蓬江区"}]
["江门健威家具装饰有限公司","部级",{"$f":"VLOOKUP(A128,'[1]2024年薪酬调查定点调查企业名单'!$B:$E,4,0)","v":"江海区"}]
["江门大参林药店有限公司","部级",{"$f":"VLOOKUP(A129,'[1]2024年薪酬调查定点调查企业名单'!$B:$E,4,0)","v":"蓬江区"}]
["新会中集集装箱有限公司","部级",{"$f":"VLOOKUP(A130,'[1]2024年薪酬调查定点调查企业名单'!$B:$E,4,0)","v":"新会区"}]
["中广核服务集团有限公司台山分公司","部级",{"$f":"VLOOKUP(A131,'[1]2024年薪酬调查定点调查企业名单'!$B:$E,4,0)","v":"台山市"}]
["台山超明纸品厂有限公司","部级",{"$f":"VLOOKUP(A132,'[1]2024年薪酬调查定点调查企业名单'!$B:$E,4,0)","v":"台山市"}]
["江门市广进铸锻有限公司","部级",{"$f":"VLOOKUP(A133,'[1]2024年薪酬调查定点调查企业名单'!$B:$E,4,0)","v":"新会区"}]
["恩平市恒安汽车服务有限公司","部级",{"$f":"VLOOKUP(A134,'[1]2024年薪酬调查定点调查企业名单'!$B:$E,4,0)","v":"恩平市"}]
["恩平市永联康精密铸造锆业有限公司","部级",{"$f":"VLOOKUP(A135,'[1]2024年薪酬调查定点调查企业名单'!$B:$E,4,0)","v":"恩平市"}]
["江门新会天辅安中医馆有限公司","部级",{"$f":"VLOOKUP(A136,'[1]2024年薪酬调查定点调查企业名单'!$B:$E,4,0)","v":"新会区"}]
["台山市宁华电力有限公司","部级",{"$f":"VLOOKUP(A137,'[1]2024年薪酬调查定点调查企业名单'!$B:$E,4,0)","v":"台山市"}]
["江门太隆精密工业有限公司","部级",{"$f":"VLOOKUP(A138,'[1]2024年薪酬调查定点调查企业名单'!$B:$E,4,0)","v":"蓬江区"}]
["华新水泥（恩平）有限公司","部级",{"$f":"VLOOKUP(A139,'[1]2024年薪酬调查定点调查企业名单'!$B:$E,4,0)","v":"恩平市"}]
["广东中域设计装饰工程有限公司","部级",{"$f":"VLOOKUP(A140,'[1]2024年薪酬调查定点调查企业名单'!$B:$E,4,0)","v":"新会区"}]
["鹤山柏威皮革制品有限公司","部级",{"$f":"VLOOKUP(A141,'[1]2024年薪酬调查定点调查企业名单'!$B:$E,4,0)","v":"鹤山市"}]
["台山市祥安矿业有限公司","部级",{"$f":"VLOOKUP(A142,'[1]2024年薪酬调查定点调查企业名单'!$B:$E,4,0)","v":"台山市"}]
["江门凯信科技实业有限公司","部级",{"$f":"VLOOKUP(A143,'[1]2024年薪酬调查定点调查企业名单'!$B:$E,4,0)","v":"蓬江区"}]
["江门市竞晖电器实业有限公司","部级",{"$f":"VLOOKUP(A144,'[1]2024年薪酬调查定点调查企业名单'!$B:$E,4,0)","v":"蓬江区"}]
["江门市华讯科技有限公司","部级",{"$f":"VLOOKUP(A145,'[1]2024年薪酬调查定点调查企业名单'!$B:$E,4,0)","v":"蓬江区"}]
["嘉窑新会矿业有限公司","部级",{"$f":"VLOOKUP(A146,'[1]2024年薪酬调查定点调查企业名单'!$B:$E,4,0)","v":"新会区"}]
["江门市乐米电器有限公司","部级",{"$f":"VLOOKUP(A147,'[1]2024年薪酬调查定点调查企业名单'!$B:$E,4,0)","v":"蓬江区"}]
["日升餐厨科技（广东）有限公司","部级",{"$f":"VLOOKUP(A148,'[1]2024年薪酬调查定点调查企业名单'!$B:$E,4,0)","v":"台山市"}]
["江门市路思拓电机电器有限公司","部级",{"$f":"VLOOKUP(A149,'[1]2024年薪酬调查定点调查企业名单'!$B:$E,4,0)","v":"江海区"}]
["江门绿润环保科技有限公司","部级",{"$f":"VLOOKUP(A150,'[1]2024年薪酬调查定点调查企业名单'!$B:$E,4,0)","v":"蓬江区"}]
["鹤山市联丰石业有限公司","部级",{"$f":"VLOOKUP(A151,'[1]2024年薪酬调查定点调查企业名单'!$B:$E,4,0)","v":"鹤山市"}]
["鹤山市方圆商务酒店有限公司","部级",{"$f":"VLOOKUP(A152,'[1]2024年薪酬调查定点调查企业名单'!$B:$E,4,0)","v":"鹤山市"}]
["台山市绿盛食品有限公司","部级",{"$f":"VLOOKUP(A153,'[1]2024年薪酬调查定点调查企业名单'!$B:$E,4,0)","v":"台山市"}]
["广东唐博生物科技有限公司","部级",{"$f":"VLOOKUP(A154,'[1]2024年薪酬调查定点调查企业名单'!$B:$E,4,0)","v":"台山市"}]
["广东富华重工制造有限公司","部级",{"$f":"VLOOKUP(A155,'[1]2024年薪酬调查定点调查企业名单'!$B:$E,4,0)","v":"台山市"}]
["三菱重工金羚空调器有限公司","部级",{"$f":"VLOOKUP(A156,'[1]2024年薪酬调查定点调查企业名单'!$B:$E,4,0)","v":"江海区"}]
["江门市优邦材料科技有限公司","部级",{"$f":"VLOOKUP(A157,'[1]2024年薪酬调查定点调查企业名单'!$B:$E,4,0)","v":"台山市"}]
["鹤山市富岗户外用品有限公司","部级",{"$f":"VLOOKUP(A158,'[1]2024年薪酬调查定点调查企业名单'!$B:$E,4,0)","v":"鹤山市"}]
["江门市东鹏智能家居有限公司","部级",{"$f":"VLOOKUP(A159,'[1]2024年薪酬调查定点调查企业名单'!$B:$E,4,0)","v":"鹤山市"}]
["江门红珊瑚酒家有限公司","部级",{"$f":"VLOOKUP(A160,'[1]2024年薪酬调查定点调查企业名单'!$B:$E,4,0)","v":"鹤山市"}]
["地尔肠道健康科技有限公司","部级",{"$f":"VLOOKUP(A161,'[1]2024年薪酬调查定点调查企业名单'!$B:$E,4,0)","v":"江海区"}]
["江门市蓬江区粤怡汽车维修厂","部级",{"$f":"VLOOKUP(A162,'[1]2024年薪酬调查定点调查企业名单'!$B:$E,4,0)","v":"蓬江区"}]
["无限极电子商务有限公司","部级","新会区"]
["江门市西屋厨房小家电有限公司","部级","江海区"]
["江门市双益磨具有限公司","省级",{"$f":"VLOOKUP(A165,'[1]2024年薪酬调查定点调查企业名单'!$B:$E,4,0)","v":"新会区"}]
["江门市俐通环保科技有限公司","省级",{"$f":"VLOOKUP(A166,'[1]2024年薪酬调查定点调查企业名单'!$B:$E,4,0)","v":"新会区"}]
["江门新东方文化信息传播有限公司","省级",{"$f":"VLOOKUP(A167,'[1]2024年薪酬调查定点调查企业名单'!$B:$E,4,0)","v":"江海区"}]
["江门市江海区南菱汽车贸易有限公司","省级",{"$f":"VLOOKUP(A168,'[1]2024年薪酬调查定点调查企业名单'!$B:$E,4,0)","v":"江海区"}]
["运丰（开平）电子制品有限公司","省级",{"$f":"VLOOKUP(A169,'[1]2024年薪酬调查定点调查企业名单'!$B:$E,4,0)","v":"开平市"}]
["鹤山安栢电路版厂有限公司","省级",{"$f":"VLOOKUP(A170,'[1]2024年薪酬调查定点调查企业名单'!$B:$E,4,0)","v":"鹤山市"}]
["江门市皇宙实业有限公司","省级",{"$f":"VLOOKUP(A171,'[1]2024年薪酬调查定点调查企业名单'!$B:$E,4,0)","v":"蓬江区"}]
["江门长铃摩托车制造有限公司","省级",{"$f":"VLOOKUP(A172,'[1]2024年薪酬调查定点调查企业名单'!$B:$E,4,0)","v":"蓬江区"}]
["开平依利安达电子第三有限公司","省级",{"$f":"VLOOKUP(A173,'[1]2024年薪酬调查定点调查企业名单'!$B:$E,4,0)","v":"开平市"}]
["广东科仕特精密机械有限公司","省级",{"$f":"VLOOKUP(A174,'[1]2024年薪酬调查定点调查企业名单'!$B:$E,4,0)","v":"开平市"}]
["广东三埠假日酒店有限公司","省级",{"$f":"VLOOKUP(A175,'[1]2024年薪酬调查定点调查企业名单'!$B:$E,4,0)","v":"开平市"}]
["广东闽江水族实业有限公司","省级",{"$f":"VLOOKUP(A176,'[1]2024年薪酬调查定点调查企业名单'!$B:$E,4,0)","v":"鹤山市"}]
["江门市新会区温馨养老院","省级",{"$f":"VLOOKUP(A177,'[1]2024年薪酬调查定点调查企业名单'!$B:$E,4,0)","v":"新会区"}]
["珠海中珠物业管理服务有限公司江门分公司","省级",{"$f":"VLOOKUP(A178,'[1]2024年薪酬调查定点调查企业名单'!$B:$E,4,0)","v":"江海区"}]
["江门市新会区马正记塑胶制品有限公司","省级",{"$f":"VLOOKUP(A179,'[1]2024年薪酬调查定点调查企业名单'!$B:$E,4,0)","v":"新会区"}]
["广东名优电梯工程有限公司","省级",{"$f":"VLOOKUP(A180,'[1]2024年薪酬调查定点调查企业名单'!$B:$E,4,0)","v":"蓬江区"}]
["江门市德邦物流有限公司","省级",{"$f":"VLOOKUP(A181,'[1]2024年薪酬调查定点调查企业名单'!$B:$E,4,0)","v":"江海区"}]
["江门市新会华侨大厦有限公司","省级",{"$f":"VLOOKUP(A182,'[1]2024年薪酬调查定点调查企业名单'!$B:$E,4,0)","v":"新会区"}]
["江门市新英房地产开发有限公司","省级",{"$f":"VLOOKUP(A183,'[1]2024年薪酬调查定点调查企业名单'!$B:$E,4,0)","v":"蓬江区"}]
["鹤山市鹤威科技发展有限公司","省级",{"$f":"VLOOKUP(A184,'[1]2024年薪酬调查定点调查企业名单'!$B:$E,4,0)","v":"鹤山市"}]
["江门顶益食品有限公司","省级",{"$f":"VLOOKUP(A185,'[1]2024年薪酬调查定点调查企业名单'!$B:$E,4,0)","v":"蓬江区"}]
["江门市云达灯饰有限公司","省级",{"$f":"VLOOKUP(A186,'[1]2024年薪酬调查定点调查企业名单'!$B:$E,4,0)","v":"江海区"}]
["开平市恒华塑料制品有限公司","省级",{"$f":"VLOOKUP(A187,'[1]2024年薪酬调查定点调查企业名单'!$B:$E,4,0)","v":"开平市"}]
["台山市上川岛飞沙滩旅游中心","省级",{"$f":"VLOOKUP(A188,'[1]2024年薪酬调查定点调查企业名单'!$B:$E,4,0)","v":"台山市"}]
["江门市新辉饲料厂有限公司","省级",{"$f":"VLOOKUP(A189,'[1]2024年薪酬调查定点调查企业名单'!$B:$E,4,0)","v":"新会区"}]
["江门市江海区帕佳图皮具有限公司","省级",{"$f":"VLOOKUP(A190,'[1]2024年薪酬调查定点调查企业名单'!$B:$E,4,0)","v":"江海区"}]
["江门市蓬江区锦富物业管理有限公司","省级",{"$f":"VLOOKUP(A191,'[1]2024年薪酬调查定点调查企业名单'!$B:$E,4,0)","v":"蓬江区"}]
["江门励骏服装服饰有限公司","省级",{"$f":"VLOOKUP(A192,'[1]2024年薪酬调查定点调查企业名单'!$B:$E,4,0)","v":"江海区"}]
["台山市红岭洗染有限公司","省级",{"$f":"VLOOKUP(A193,'[1]2024年薪酬调查定点调查企业名单'!$B:$E,4,0)","v":"台山市"}]
["江门市六和饲料有限公司","省级",{"$f":"VLOOKUP(A194,'[1]2024年薪酬调查定点调查企业名单'!$B:$E,4,0)","v":"台山市"}]
["中国建设银行股份有限公司江门市分行","省级",{"$f":"VLOOKUP(A195,'[1]2024年薪酬调查定点调查企业名单'!$B:$E,4,0)","v":"蓬江区"}]
["台山市城市管理局园林管理处","省级",{"$f":"VLOOKUP(A196,'[1]2024年薪酬调查定点调查企业名单'!$B:$E,4,0)","v":"台山市"}]
["广东华艺卫浴实业有限公司","省级",{"$f":"VLOOKUP(A197,'[1]2024年薪酬调查定点调查企业名单'!$B:$E,4,0)","v":"开平市"}]
["广东日兴药品有限公司","省级",{"$f":"VLOOKUP(A198,'[1]2024年薪酬调查定点调查企业名单'!$B:$E,4,0)","v":"开平市"}]
["中国邮政集团有限公司江门市分公司","省级",{"$f":"VLOOKUP(A199,'[1]2024年薪酬调查定点调查企业名单'!$B:$E,4,0)","v":"蓬江区"}]
["江门市汇聪电器厂有限公司","省级",{"$f":"VLOOKUP(A200,'[1]2024年薪酬调查定点调查企业名单'!$B:$E,4,0)","v":"江海区"}]
["鹤山市东古调味食品有限公司","省级",{"$f":"VLOOKUP(A201,'[1]2024年薪酬调查定点调查企业名单'!$B:$E,4,0)","v":"鹤山市"}]
["江门健威凯利实业有限公司","省级",{"$f":"VLOOKUP(A202,'[1]2024年薪酬调查定点调查企业名单'!$B:$E,4,0)","v":"江海区"}]
["广东均安建筑工程有限公司","省级",{"$f":"VLOOKUP(A203,'[1]2024年薪酬调查定点调查企业名单'!$B:$E,4,0)","v":"开平市"}]
["江门波威音响器材有限公司","省级",{"$f":"VLOOKUP(A204,'[1]2024年薪酬调查定点调查企业名单'!$B:$E,4,0)","v":"恩平市"}]
["天地壹号饮料股份有限公司","省级",{"$f":"VLOOKUP(A205,'[1]2024年薪酬调查定点调查企业名单'!$B:$E,4,0)","v":"蓬江区"}]
["鹤山市建设工程质量检测中心","省级",{"$f":"VLOOKUP(A206,'[1]2024年薪酬调查定点调查企业名单'!$B:$E,4,0)","v":"鹤山市"}]
["广东和宇传感器有限公司","省级",{"$f":"VLOOKUP(A207,'[1]2024年薪酬调查定点调查企业名单'!$B:$E,4,0)","v":"新会区"}]
["台山市四九井面潭水电站","省级",{"$f":"VLOOKUP(A208,'[1]2024年薪酬调查定点调查企业名单'!$B:$E,4,0)","v":"台山市"}]
["鹤山市华悦食品饮料有限公司","省级",{"$f":"VLOOKUP(A209,'[1]2024年薪酬调查定点调查企业名单'!$B:$E,4,0)","v":"鹤山市"}]
["恩平市帕思高电子科技有限公司","省级",{"$f":"VLOOKUP(A210,'[1]2024年薪酬调查定点调查企业名单'!$B:$E,4,0)","v":"恩平市"}]
["广东宝德利新材料科技股份有限公司","省级",{"$f":"VLOOKUP(A211,'[1]2024年薪酬调查定点调查企业名单'!$B:$E,4,0)","v":"蓬江区"}]
["江门市容宇电子有限公司","省级",{"$f":"VLOOKUP(A212,'[1]2024年薪酬调查定点调查企业名单'!$B:$E,4,0)","v":"蓬江区"}]
["广东新华发行集团江门新华书店有限公司","省级",{"$f":"VLOOKUP(A213,'[1]2024年薪酬调查定点调查企业名单'!$B:$E,4,0)","v":"蓬江区"}]
["江门市江海区振达机电工程成套有限公司","省级",{"$f":"VLOOKUP(A214,'[1]2024年薪酬调查定点调查企业名单'!$B:$E,4,0)","v":"江海区"}]
["江门市钜荣汽车销售服务有限公司","省级",{"$f":"VLOOKUP(A215,'[1]2024年薪酬调查定点调查企业名单'!$B:$E,4,0)","v":"江海区"}]
["华林证券股份有限公司江门聚德街证券营业部","省级",{"$f":"VLOOKUP(A216,'[1]2024年薪酬调查定点调查企业名单'!$B:$E,4,0)","v":"蓬江区"}]
["开平威技电器有限公司","省级",{"$f":"VLOOKUP(A217,'[1]2024年薪酬调查定点调查企业名单'!$B:$E,4,0)","v":"开平市"}]
["汉宇集团股份有限公司","省级",{"$f":"VLOOKUP(A218,'[1]2024年薪酬调查定点调查企业名单'!$B:$E,4,0)","v":"江海区"}]
["台山市安信电器制品有限公司","省级",{"$f":"VLOOKUP(A219,'[1]2024年薪酬调查定点调查企业名单'!$B:$E,4,0)","v":"台山市"}]
["碧桂园生活服务集团股份有限公司台山分公司","省级",{"$f":"VLOOKUP(A220,'[1]2024年薪酬调查定点调查企业名单'!$B:$E,4,0)","v":"台山市"}]
["江门市新会区恒泰石业有限公司","省级",{"$f":"VLOOKUP(A221,'[1]2024年薪酬调查定点调查企业名单'!$B:$E,4,0)","v":"新会区"}]
["江门市五邑建设工程监理有限公司","省级",{"$f":"VLOOKUP(A222,'[1]2024年薪酬调查定点调查企业名单'!$B:$E,4,0)","v":"蓬江区"}]
["江门市新会金瓶金属制品有限公司","省级",{"$f":"VLOOKUP(A223,'[1]2024年薪酬调查定点调查企业名单'!$B:$E,4,0)","v":"新会区"}]
["开平威宝精密电机有限公司","省级",{"$f":"VLOOKUP(A224,'[1]2024年薪酬调查定点调查企业名单'!$B:$E,4,0)","v":"开平市"}]
["中国农业银行股份有限公司开平市支行","省级",{"$f":"VLOOKUP(A225,'[1]2024年薪酬调查定点调查企业名单'!$B:$E,4,0)","v":"开平市"}]
["江门市信旭五金工艺制品有限公司","省级",{"$f":"VLOOKUP(A226,'[1]2024年薪酬调查定点调查企业名单'!$B:$E,4,0)","v":"江海区"}]
["开平潭江半岛酒店有限公司","省级",{"$f":"VLOOKUP(A227,'[1]2024年薪酬调查定点调查企业名单'!$B:$E,4,0)","v":"开平市"}]
["广东新华发行集团开平新华书店有限公司","省级",{"$f":"VLOOKUP(A228,'[1]2024年薪酬调查定点调查企业名单'!$B:$E,4,0)","v":"开平市"}]
["江门市三木化工有限公司","省级",{"$f":"VLOOKUP(A229,'[1]2024年薪酬调查定点调查企业名单'!$B:$E,4,0)","v":"新会区"}]
["江门市时尚空调贸易有限公司","省级",{"$f":"VLOOKUP(A230,'[1]2024年薪酬调查定点调查企业名单'!$B:$E,4,0)","v":"蓬江区"}]
["广东天平拍卖有限公司","省级",{"$f":"VLOOKUP(A231,'[1]2024年薪酬调查定点调查企业名单'!$B:$E,4,0)","v":"蓬江区"}]
["鹤山市小军驾校有限公司","省级",{"$f":"VLOOKUP(A232,'[1]2024年薪酬调查定点调查企业名单'!$B:$E,4,0)","v":"鹤山市"}]
["江门市金太平系统集成有限公司","省级",{"$f":"VLOOKUP(A233,'[1]2024年薪酬调查定点调查企业名单'!$B:$E,4,0)","v":"江海区"}]
["台山途乐音响科技发展有限公司","省级",{"$f":"VLOOKUP(A234,'[1]2024年薪酬调查定点调查企业名单'!$B:$E,4,0)","v":"台山市"}]
["励福（江门）环保科技股份有限公司","省级",{"$f":"VLOOKUP(A235,'[1]2024年薪酬调查定点调查企业名单'!$B:$E,4,0)","v":"江海区"}]
["广东省台山市凯明电镀厂有限公司","省级",{"$f":"VLOOKUP(A236,'[1]2024年薪酬调查定点调查企业名单'!$B:$E,4,0)","v":"台山市"}]
["开平百事通计算机工程有限公司","省级",{"$f":"VLOOKUP(A237,'[1]2024年薪酬调查定点调查企业名单'!$B:$E,4,0)","v":"开平市"}]
["江门公用能源环保有限公司","省级",{"$f":"VLOOKUP(A238,'[1]2024年薪酬调查定点调查企业名单'!$B:$E,4,0)","v":"江海区"}]
["台山市邦泰鞋材有限公司","省级",{"$f":"VLOOKUP(A239,'[1]2024年薪酬调查定点调查企业名单'!$B:$E,4,0)","v":"台山市"}]
["开平味事达调味品有限公司","省级",{"$f":"VLOOKUP(A240,'[1]2024年薪酬调查定点调查企业名单'!$B:$E,4,0)","v":"开平市"}]
["鹤山市思特乐金属制品有限公司","省级",{"$f":"VLOOKUP(A241,'[1]2024年薪酬调查定点调查企业名单'!$B:$E,4,0)","v":"鹤山市"}]
["广东今科机床有限公司","省级",{"$f":"VLOOKUP(A242,'[1]2024年薪酬调查定点调查企业名单'!$B:$E,4,0)","v":"蓬江区"}]
["中国邮政集团有限公司广东省开平市分公司","省级",{"$f":"VLOOKUP(A243,'[1]2024年薪酬调查定点调查企业名单'!$B:$E,4,0)","v":"开平市"}]
["江门市文旅交通投资集团有限公司鹤山汽车总站","省级",{"$f":"VLOOKUP(A244,'[1]2024年薪酬调查定点调查企业名单'!$B:$E,4,0)","v":"鹤山市"}]
["广东彼迪药业有限公司","省级",{"$f":"VLOOKUP(A245,'[1]2024年薪酬调查定点调查企业名单'!$B:$E,4,0)","v":"开平市"}]
["广东银狐医疗科技股份有限公司","省级",{"$f":"VLOOKUP(A246,'[1]2024年薪酬调查定点调查企业名单'!$B:$E,4,0)","v":"蓬江区"}]
["鹤山市新科达企业有限公司","省级",{"$f":"VLOOKUP(A247,'[1]2024年薪酬调查定点调查企业名单'!$B:$E,4,0)","v":"鹤山市"}]
["江门市诚通劳务派遣服务有限公司","省级",{"$f":"VLOOKUP(A248,'[1]2024年薪酬调查定点调查企业名单'!$B:$E,4,0)","v":"江海区"}]
["山度士（广东）服饰智造有限公司","省级",{"$f":"VLOOKUP(A249,'[1]2024年薪酬调查定点调查企业名单'!$B:$E,4,0)","v":"台山市"}]
["恩平市仙笛音响器材有限公司","省级",{"$f":"VLOOKUP(A250,'[1]2024年薪酬调查定点调查企业名单'!$B:$E,4,0)","v":"恩平市"}]
["鹤山嘉合工艺品有限公司","省级",{"$f":"VLOOKUP(A251,'[1]2024年薪酬调查定点调查企业名单'!$B:$E,4,0)","v":"鹤山市"}]
["江门市新恒基市政工程有限公司","省级",{"$f":"VLOOKUP(A252,'[1]2024年薪酬调查定点调查企业名单'!$B:$E,4,0)","v":"江海区"}]
["广东健芝缘保健食品有限公司","省级",{"$f":"VLOOKUP(A253,'[1]2024年薪酬调查定点调查企业名单'!$B:$E,4,0)","v":"开平市"}]
["开平海发塑胶五金实业公司","省级",{"$f":"VLOOKUP(A254,'[1]2024年薪酬调查定点调查企业名单'!$B:$E,4,0)","v":"开平市"}]
["开平科联织带发展有限公司","省级",{"$f":"VLOOKUP(A255,'[1]2024年薪酬调查定点调查企业名单'!$B:$E,4,0)","v":"开平市"}]
["恩平市海天电子科技有限公司","省级",{"$f":"VLOOKUP(A256,'[1]2024年薪酬调查定点调查企业名单'!$B:$E,4,0)","v":"恩平市"}]
["广东金辉华集团有限公司","省级",{"$f":"VLOOKUP(A257,'[1]2024年薪酬调查定点调查企业名单'!$B:$E,4,0)","v":"开平市"}]
["开平广合腐乳有限公司","省级",{"$f":"VLOOKUP(A258,'[1]2024年薪酬调查定点调查企业名单'!$B:$E,4,0)","v":"开平市"}]
["广东四维电力工程有限公司","省级",{"$f":"VLOOKUP(A259,'[1]2024年薪酬调查定点调查企业名单'!$B:$E,4,0)","v":"开平市"}]
["广东富华铸锻有限公司","省级",{"$f":"VLOOKUP(A260,'[1]2024年薪酬调查定点调查企业名单'!$B:$E,4,0)","v":"新会区"}]
["江门市振达机械制造有限公司","省级",{"$f":"VLOOKUP(A261,'[1]2024年薪酬调查定点调查企业名单'!$B:$E,4,0)","v":"江海区"}]
["广东宝力电器有限公司","省级",{"$f":"VLOOKUP(A262,'[1]2024年薪酬调查定点调查企业名单'!$B:$E,4,0)","v":"新会区"}]
["开平市邑兴汽车销售服务有限公司","省级",{"$f":"VLOOKUP(A263,'[1]2024年薪酬调查定点调查企业名单'!$B:$E,4,0)","v":"开平市"}]
["江门市兴江转向器有限公司","省级",{"$f":"VLOOKUP(A264,'[1]2024年薪酬调查定点调查企业名单'!$B:$E,4,0)","v":"蓬江区"}]
["江门建滔电子发展有限公司","省级",{"$f":"VLOOKUP(A265,'[1]2024年薪酬调查定点调查企业名单'!$B:$E,4,0)","v":"江海区"}]
["台山市恒达家居工艺制品有限公司","省级",{"$f":"VLOOKUP(A266,'[1]2024年薪酬调查定点调查企业名单'!$B:$E,4,0)","v":"台山市"}]
["江门市公共汽车有限公司","省级",{"$f":"VLOOKUP(A267,'[1]2024年薪酬调查定点调查企业名单'!$B:$E,4,0)","v":"江海区"}]
["开平市苍城镇兴业投资服务中心","省级",{"$f":"VLOOKUP(A268,'[1]2024年薪酬调查定点调查企业名单'!$B:$E,4,0)","v":"开平市"}]
["江门市凌志餐厨用品有限公司","省级",{"$f":"VLOOKUP(A269,'[1]2024年薪酬调查定点调查企业名单'!$B:$E,4,0)","v":"江海区"}]
["台山广安霖化工有限公司","省级",{"$f":"VLOOKUP(A270,'[1]2024年薪酬调查定点调查企业名单'!$B:$E,4,0)","v":"台山市"}]
["开平市向阳花第六幼儿园","省级",{"$f":"VLOOKUP(A271,'[1]2024年薪酬调查定点调查企业名单'!$B:$E,4,0)","v":"开平市"}]
["广东彩艳股份有限公司","省级",{"$f":"VLOOKUP(A272,'[1]2024年薪酬调查定点调查企业名单'!$B:$E,4,0)","v":"新会区"}]
["嘉宝莉化工集团股份有限公司","省级",{"$f":"VLOOKUP(A273,'[1]2024年薪酬调查定点调查企业名单'!$B:$E,4,0)","v":"蓬江区"}]
["江门市裕和泰纺织实业有限公司","省级",{"$f":"VLOOKUP(A274,'[1]2024年薪酬调查定点调查企业名单'!$B:$E,4,0)","v":"新会区"}]
["恩平市长安药业有限公司","省级",{"$f":"VLOOKUP(A275,'[1]2024年薪酬调查定点调查企业名单'!$B:$E,4,0)","v":"恩平市"}]
["江门市汇通汽车有限公司","省级",{"$f":"VLOOKUP(A276,'[1]2024年薪酬调查定点调查企业名单'!$B:$E,4,0)","v":"江海区"}]
["鹤山市广顺饲料有限公司","省级",{"$f":"VLOOKUP(A277,'[1]2024年薪酬调查定点调查企业名单'!$B:$E,4,0)","v":"鹤山市"}]
["开平市大沙河供水公司","省级",{"$f":"VLOOKUP(A278,'[1]2024年薪酬调查定点调查企业名单'!$B:$E,4,0)","v":"开平市"}]
["广东开平广三保畜牧有限公司","省级",{"$f":"VLOOKUP(A279,'[1]2024年薪酬调查定点调查企业名单'!$B:$E,4,0)","v":"开平市"}]
["恩平锦兴纺织印染企业有限公司","省级",{"$f":"VLOOKUP(A280,'[1]2024年薪酬调查定点调查企业名单'!$B:$E,4,0)","v":"恩平市"}]
["鹤山建豪电光源有限公司","省级",{"$f":"VLOOKUP(A281,'[1]2024年薪酬调查定点调查企业名单'!$B:$E,4,0)","v":"鹤山市"}]
["江门市江海区亮庆餐饮服务有限公司","省级",{"$f":"VLOOKUP(A282,'[1]2024年薪酬调查定点调查企业名单'!$B:$E,4,0)","v":"江海区"}]
["江门市骏兴汽车销售服务有限公司","省级",{"$f":"VLOOKUP(A283,'[1]2024年薪酬调查定点调查企业名单'!$B:$E,4,0)","v":"江海区"}]
["江门市多快好省机械有限公司","省级",{"$f":"VLOOKUP(A284,'[1]2024年薪酬调查定点调查企业名单'!$B:$E,4,0)","v":"江海区"}]
["江门南方脚轮金属制品有限公司","省级",{"$f":"VLOOKUP(A285,'[1]2024年薪酬调查定点调查企业名单'!$B:$E,4,0)","v":"鹤山市"}]
["联冠（开平）胶粘制品有限公司","省级",{"$f":"VLOOKUP(A286,'[1]2024年薪酬调查定点调查企业名单'!$B:$E,4,0)","v":"开平市"}]
["鹤山市宇盈五金日用制品有限公司","省级",{"$f":"VLOOKUP(A287,'[1]2024年薪酬调查定点调查企业名单'!$B:$E,4,0)","v":"鹤山市"}]
["江门华艺美文化用品有限公司","省级",{"$f":"VLOOKUP(A288,'[1]2024年薪酬调查定点调查企业名单'!$B:$E,4,0)","v":"蓬江区"}]
["鹤山市华山泉食品饮料有限公司","省级",{"$f":"VLOOKUP(A289,'[1]2024年薪酬调查定点调查企业名单'!$B:$E,4,0)","v":"鹤山市"}]
["江门市环市建筑工程有限公司","省级",{"$f":"VLOOKUP(A290,'[1]2024年薪酬调查定点调查企业名单'!$B:$E,4,0)","v":"蓬江区"}]
["广东省新会电器厂有限公司","省级",{"$f":"VLOOKUP(A291,'[1]2024年薪酬调查定点调查企业名单'!$B:$E,4,0)","v":"新会区"}]
["开平市汉顺洁具实业有限公司","省级",{"$f":"VLOOKUP(A292,'[1]2024年薪酬调查定点调查企业名单'!$B:$E,4,0)","v":"开平市"}]
["开平依利安达电子有限公司","省级",{"$f":"VLOOKUP(A293,'[1]2024年薪酬调查定点调查企业名单'!$B:$E,4,0)","v":"开平市"}]
["江门市文昌集团有限公司","省级",{"$f":"VLOOKUP(A294,'[1]2024年薪酬调查定点调查企业名单'!$B:$E,4,0)","v":"江海区"}]
["台山市君海悦凤凰酒店有限公司","省级",{"$f":"VLOOKUP(A295,'[1]2024年薪酬调查定点调查企业名单'!$B:$E,4,0)","v":"台山市"}]
["江门市阪桥电子材料有限公司","省级",{"$f":"VLOOKUP(A296,'[1]2024年薪酬调查定点调查企业名单'!$B:$E,4,0)","v":"江海区"}]
["鹤山精联印刷有限公司","省级",{"$f":"VLOOKUP(A297,'[1]2024年薪酬调查定点调查企业名单'!$B:$E,4,0)","v":"鹤山市"}]
["恩平市锦江温泉有限公司","省级",{"$f":"VLOOKUP(A298,'[1]2024年薪酬调查定点调查企业名单'!$B:$E,4,0)","v":"恩平市"}]
["江门市冠球实业有限公司","省级",{"$f":"VLOOKUP(A299,'[1]2024年薪酬调查定点调查企业名单'!$B:$E,4,0)","v":"新会区"}]
["江门市新会彩艳实业有限公司","省级",{"$f":"VLOOKUP(A300,'[1]2024年薪酬调查定点调查企业名单'!$B:$E,4,0)","v":"新会区"}]
["鹤山市冠亚海棉工艺制品有限公司","省级",{"$f":"VLOOKUP(A301,'[1]2024年薪酬调查定点调查企业名单'!$B:$E,4,0)","v":"鹤山市"}]
["江门粤海饲料有限公司","省级",{"$f":"VLOOKUP(A302,'[1]2024年薪酬调查定点调查企业名单'!$B:$E,4,0)","v":"台山市"}]
["江门市白水带公园综合服务部","省级",{"$f":"VLOOKUP(A303,'[1]2024年薪酬调查定点调查企业名单'!$B:$E,4,0)","v":"江海区"}]
["江门嘉美医疗器械制品有限公司","省级",{"$f":"VLOOKUP(A304,'[1]2024年薪酬调查定点调查企业名单'!$B:$E,4,0)","v":"鹤山市"}]
["广东海安水运技术服务有限公司江门分公司","省级",{"$f":"VLOOKUP(A305,'[1]2024年薪酬调查定点调查企业名单'!$B:$E,4,0)","v":"江海区"}]
["江门市时尚冷气贸易有限公司","省级",{"$f":"VLOOKUP(A306,'[1]2024年薪酬调查定点调查企业名单'!$B:$E,4,0)","v":"蓬江区"}]
["台山市下川岛王府洲游乐中心","省级",{"$f":"VLOOKUP(A307,'[1]2024年薪酬调查定点调查企业名单'!$B:$E,4,0)","v":"台山市"}]
["恩平市康盛物业管理服务有限公司","省级",{"$f":"VLOOKUP(A308,'[1]2024年薪酬调查定点调查企业名单'!$B:$E,4,0)","v":"恩平市"}]
["鹤山市华大物业管理有限公司","省级",{"$f":"VLOOKUP(A309,'[1]2024年薪酬调查定点调查企业名单'!$B:$E,4,0)","v":"鹤山市"}]
["台山市科信特电机有限公司","省级",{"$f":"VLOOKUP(A310,'[1]2024年薪酬调查定点调查企业名单'!$B:$E,4,0)","v":"台山市"}]
["江门市新会区罗坑供水有限公司","省级",{"$f":"VLOOKUP(A311,'[1]2024年薪酬调查定点调查企业名单'!$B:$E,4,0)","v":"新会区"}]
["江门云科智能装备有限公司","省级",{"$f":"VLOOKUP(A312,'[1]2024年薪酬调查定点调查企业名单'!$B:$E,4,0)","v":"江海区"}]
["富飞净化消声器（台山）有限公司","省级",{"$f":"VLOOKUP(A313,'[1]2024年薪酬调查定点调查企业名单'!$B:$E,4,0)","v":"台山市"}]
["广东华迅实业有限公司","省级",{"$f":"VLOOKUP(A314,'[1]2024年薪酬调查定点调查企业名单'!$B:$E,4,0)","v":"鹤山市"}]
["恩平市供水有限公司","省级",{"$f":"VLOOKUP(A315,'[1]2024年薪酬调查定点调查企业名单'!$B:$E,4,0)","v":"恩平市"}]
["鹤山恒富制衣有限公司","省级",{"$f":"VLOOKUP(A316,'[1]2024年薪酬调查定点调查企业名单'!$B:$E,4,0)","v":"鹤山市"}]
["广东江逸建设工程有限公司","省级",{"$f":"VLOOKUP(A317,'[1]2024年薪酬调查定点调查企业名单'!$B:$E,4,0)","v":"鹤山市"}]
["广东明道信息技术有限公司","省级",{"$f":"VLOOKUP(A318,'[1]2024年薪酬调查定点调查企业名单'!$B:$E,4,0)","v":"蓬江区"}]
["开平牵牛生化制药有限公司","省级",{"$f":"VLOOKUP(A319,'[1]2024年薪酬调查定点调查企业名单'!$B:$E,4,0)","v":"开平市"}]
["江门国际货柜码头有限公司","省级",{"$f":"VLOOKUP(A320,'[1]2024年薪酬调查定点调查企业名单'!$B:$E,4,0)","v":"蓬江区"}]
["台山市侨都温泉旅游度假有限公司","省级",{"$f":"VLOOKUP(A321,'[1]2024年薪酬调查定点调查企业名单'!$B:$E,4,0)","v":"台山市"}]
["江门市文旅交通投资集团有限公司开平汽车总站","省级",{"$f":"VLOOKUP(A322,'[1]2024年薪酬调查定点调查企业名单'!$B:$E,4,0)","v":"开平市"}]
["开平风华制衣厂","省级",{"$f":"VLOOKUP(A323,'[1]2024年薪酬调查定点调查企业名单'!$B:$E,4,0)","v":"开平市"}]
["江门市宝爵油箱制造有限公司","省级",{"$f":"VLOOKUP(A324,'[1]2024年薪酬调查定点调查企业名单'!$B:$E,4,0)","v":"江海区"}]
["开平市长沙街天富幼儿园","省级",{"$f":"VLOOKUP(A325,'[1]2024年薪酬调查定点调查企业名单'!$B:$E,4,0)","v":"开平市"}]
["江门美亚电器制品厂","省级",{"$f":"VLOOKUP(A326,'[1]2024年薪酬调查定点调查企业名单'!$B:$E,4,0)","v":"江海区"}]
["江门市崖门新财富环保工业有限公司","省级",{"$f":"VLOOKUP(A327,'[1]2024年薪酬调查定点调查企业名单'!$B:$E,4,0)","v":"新会区"}]
["江门天辅安中医馆中医门诊部","省级",{"$f":"VLOOKUP(A328,'[1]2024年薪酬调查定点调查企业名单'!$B:$E,4,0)","v":"蓬江区"}]
["江门市昌大昌超级购物广场有限公司","省级",{"$f":"VLOOKUP(A329,'[1]2024年薪酬调查定点调查企业名单'!$B:$E,4,0)","v":"台山市"}]
["台山市金奥联食品有限公司","省级",{"$f":"VLOOKUP(A330,'[1]2024年薪酬调查定点调查企业名单'!$B:$E,4,0)","v":"台山市"}]
["鹤山冠东洗染有限公司","省级",{"$f":"VLOOKUP(A331,'[1]2024年薪酬调查定点调查企业名单'!$B:$E,4,0)","v":"鹤山市"}]
["广东奇德新材料股份有限公司","省级",{"$f":"VLOOKUP(A332,'[1]2024年薪酬调查定点调查企业名单'!$B:$E,4,0)","v":"江海区"}]
["江门市大账房会计事务所有限公司","省级",{"$f":"VLOOKUP(A333,'[1]2024年薪酬调查定点调查企业名单'!$B:$E,4,0)","v":"蓬江区"}]
["亚科迈高机能树脂制品（开平）有限公司","省级",{"$f":"VLOOKUP(A334,'[1]2024年薪酬调查定点调查企业名单'!$B:$E,4,0)","v":"开平市"}]
["鹤山味香园食品有限公司","省级",{"$f":"VLOOKUP(A335,'[1]2024年薪酬调查定点调查企业名单'!$B:$E,4,0)","v":"鹤山市"}]
["江门杰富意磁性材有限公司","省级",{"$f":"VLOOKUP(A336,'[1]2024年薪酬调查定点调查企业名单'!$B:$E,4,0)","v":"新会区"}]
["华福涂料（江门）有限公司","省级",{"$f":"VLOOKUP(A337,'[1]2024年薪酬调查定点调查企业名单'!$B:$E,4,0)","v":"江海区"}]
["江门繁华输配电设备有限公司","省级",{"$f":"VLOOKUP(A338,'[1]2024年薪酬调查定点调查企业名单'!$B:$E,4,0)","v":"江海区"}]
["江门市华隆装备智造有限公司","省级",{"$f":"VLOOKUP(A339,'[1]2024年薪酬调查定点调查企业名单'!$B:$E,4,0)","v":"蓬江区"}]
["江门市慧宇化工有限公司","省级",{"$f":"VLOOKUP(A340,'[1]2024年薪酬调查定点调查企业名单'!$B:$E,4,0)","v":"江海区"}]
["鹤山市文华酒店有限公司","省级",{"$f":"VLOOKUP(A341,'[1]2024年薪酬调查定点调查企业名单'!$B:$E,4,0)","v":"鹤山市"}]
["江门市瑞期精细化学工程有限公司","省级",{"$f":"VLOOKUP(A342,'[1]2024年薪酬调查定点调查企业名单'!$B:$E,4,0)","v":"蓬江区"}]
["开平市伊士高酒店有限公司","省级",{"$f":"VLOOKUP(A343,'[1]2024年薪酬调查定点调查企业名单'!$B:$E,4,0)","v":"开平市"}]
["江门市江海区振兴塑料包装制品厂","省级",{"$f":"VLOOKUP(A344,'[1]2024年薪酬调查定点调查企业名单'!$B:$E,4,0)","v":"江海区"}]
["广东永锐实业有限公司","省级",{"$f":"VLOOKUP(A345,'[1]2024年薪酬调查定点调查企业名单'!$B:$E,4,0)","v":"江海区"}]
["江门市江安汽车检测有限公司","省级",{"$f":"VLOOKUP(A346,'[1]2024年薪酬调查定点调查企业名单'!$B:$E,4,0)","v":"江海区"}]
["江门市亨源石油化工有限公司","省级",{"$f":"VLOOKUP(A347,'[1]2024年薪酬调查定点调查企业名单'!$B:$E,4,0)","v":"新会区"}]
["江门市溢丰油脂有限公司","省级",{"$f":"VLOOKUP(A348,'[1]2024年薪酬调查定点调查企业名单'!$B:$E,4,0)","v":"江海区"}]
["江门市广润轨道交通实业有限公司","省级",{"$f":"VLOOKUP(A349,'[1]2024年薪酬调查定点调查企业名单'!$B:$E,4,0)","v":"新会区"}]
["台山市新泰华鞋厂有限公司","省级",{"$f":"VLOOKUP(A350,'[1]2024年薪酬调查定点调查企业名单'!$B:$E,4,0)","v":"台山市"}]
["江门冷冻厂有限公司","省级",{"$f":"VLOOKUP(A351,'[1]2024年薪酬调查定点调查企业名单'!$B:$E,4,0)","v":"蓬江区"}]
["开平市威尔逊酒店有限公司","省级",{"$f":"VLOOKUP(A352,'[1]2024年薪酬调查定点调查企业名单'!$B:$E,4,0)","v":"开平市"}]
["广东大源建设有限公司","省级",{"$f":"VLOOKUP(A353,'[1]2024年薪酬调查定点调查企业名单'!$B:$E,4,0)","v":"蓬江区"}]
["台山永发五金制品有限公司","省级",{"$f":"VLOOKUP(A354,'[1]2024年薪酬调查定点调查企业名单'!$B:$E,4,0)","v":"台山市"}]
["维达纸业（中国）有限公司","省级",{"$f":"VLOOKUP(A355,'[1]2024年薪酬调查定点调查企业名单'!$B:$E,4,0)","v":"新会区"}]
["广东万丰摩轮有限公司","省级",{"$f":"VLOOKUP(A356,'[1]2024年薪酬调查定点调查企业名单'!$B:$E,4,0)","v":"蓬江区"}]
["振昕（台山）齿轮变速箱有限公司","省级",{"$f":"VLOOKUP(A357,'[1]2024年薪酬调查定点调查企业名单'!$B:$E,4,0)","v":"台山市"}]
["广东金达峰自动化有限公司","省级",{"$f":"VLOOKUP(A358,'[1]2024年薪酬调查定点调查企业名单'!$B:$E,4,0)","v":"新会区"}]
["江门市江海区金鸿楼酒楼有限公司","省级",{"$f":"VLOOKUP(A359,'[1]2024年薪酬调查定点调查企业名单'!$B:$E,4,0)","v":"江海区"}]
["江门市新会畜牧食品有限公司","省级",{"$f":"VLOOKUP(A360,'[1]2024年薪酬调查定点调查企业名单'!$B:$E,4,0)","v":"新会区"}]
["广东鸿特精密技术（台山）有限公司","省级",{"$f":"VLOOKUP(A361,'[1]2024年薪酬调查定点调查企业名单'!$B:$E,4,0)","v":"台山市"}]
["江门东骏电器有限公司","省级",{"$f":"VLOOKUP(A362,'[1]2024年薪酬调查定点调查企业名单'!$B:$E,4,0)","v":"江海区"}]
["江门市蓬江区乐婴信息服务有限公司","省级",{"$f":"VLOOKUP(A363,'[1]2024年薪酬调查定点调查企业名单'!$B:$E,4,0)","v":"蓬江区"}]
["广东嘉士利食品集团有限公司","省级",{"$f":"VLOOKUP(A364,'[1]2024年薪酬调查定点调查企业名单'!$B:$E,4,0)","v":"开平市"}]
["江门市蓬江建筑集团有限公司","省级",{"$f":"VLOOKUP(A365,'[1]2024年薪酬调查定点调查企业名单'!$B:$E,4,0)","v":"蓬江区"}]
["江门市辉隆塑料机械有限公司","省级",{"$f":"VLOOKUP(A366,'[1]2024年薪酬调查定点调查企业名单'!$B:$E,4,0)","v":"江海区"}]
["开平雅琪塑胶机械模具厂","省级",{"$f":"VLOOKUP(A367,'[1]2024年薪酬调查定点调查企业名单'!$B:$E,4,0)","v":"开平市"}]
["江门市新会公用环境建设集团有限公司","省级",{"$f":"VLOOKUP(A368,'[1]2024年薪酬调查定点调查企业名单'!$B:$E,4,0)","v":"新会区"}]
["开平启帆织造有限公司","省级",{"$f":"VLOOKUP(A369,'[1]2024年薪酬调查定点调查企业名单'!$B:$E,4,0)","v":"开平市"}]
["华冠新型材料股份有限公司","省级",{"$f":"VLOOKUP(A370,'[1]2024年薪酬调查定点调查企业名单'!$B:$E,4,0)","v":"新会区"}]
["开平市丰泰汽车销售服务有限公司","省级",{"$f":"VLOOKUP(A371,'[1]2024年薪酬调查定点调查企业名单'!$B:$E,4,0)","v":"开平市"}]
["广东新红阳科技有限公司","省级",{"$f":"VLOOKUP(A372,'[1]2024年薪酬调查定点调查企业名单'!$B:$E,4,0)","v":"鹤山市"}]
["鹤山市第五频道娱乐城","省级",{"$f":"VLOOKUP(A373,'[1]2024年薪酬调查定点调查企业名单'!$B:$E,4,0)","v":"鹤山市"}]
["江门公用检测科技有限公司","省级",{"$f":"VLOOKUP(A374,'[1]2024年薪酬调查定点调查企业名单'!$B:$E,4,0)","v":"蓬江区"}]
["广明源光科技股份有限公司","省级",{"$f":"VLOOKUP(A375,'[1]2024年薪酬调查定点调查企业名单'!$B:$E,4,0)","v":"鹤山市"}]
["江门市德宜鑫塑胶模具制品厂有限公司","省级",{"$f":"VLOOKUP(A376,'[1]2024年薪酬调查定点调查企业名单'!$B:$E,4,0)","v":"蓬江区"}]
["台山市长富铝业有限公司","省级",{"$f":"VLOOKUP(A377,'[1]2024年薪酬调查定点调查企业名单'!$B:$E,4,0)","v":"台山市"}]
["广东海昌电器制造有限公司","省级",{"$f":"VLOOKUP(A378,'[1]2024年薪酬调查定点调查企业名单'!$B:$E,4,0)","v":"鹤山市"}]
["江门市教育印刷厂有限公司","省级",{"$f":"VLOOKUP(A379,'[1]2024年薪酬调查定点调查企业名单'!$B:$E,4,0)","v":"江海区"}]
["无限极（中国）有限公司","省级",{"$f":"VLOOKUP(A380,'[1]2024年薪酬调查定点调查企业名单'!$B:$E,4,0)","v":"新会区"}]
["台山市新宁制药有限公司","省级",{"$f":"VLOOKUP(A381,'[1]2024年薪酬调查定点调查企业名单'!$B:$E,4,0)","v":"台山市"}]
["中国建设银行股份有限公司开平支行","省级",{"$f":"VLOOKUP(A382,'[1]2024年薪酬调查定点调查企业名单'!$B:$E,4,0)","v":"开平市"}]
["江门市又一居房地产开发有限公司","省级",{"$f":"VLOOKUP(A383,'[1]2024年薪酬调查定点调查企业名单'!$B:$E,4,0)","v":"江海区"}]
["江门市蓬江区纳福苑餐饮服务有限公司","省级",{"$f":"VLOOKUP(A384,'[1]2024年薪酬调查定点调查企业名单'!$B:$E,4,0)","v":"蓬江区"}]
["开平高华种子有限公司","省级",{"$f":"VLOOKUP(A385,'[1]2024年薪酬调查定点调查企业名单'!$B:$E,4,0)","v":"开平市"}]
["台山宝捷弹性织物厂有限公司","省级",{"$f":"VLOOKUP(A386,'[1]2024年薪酬调查定点调查企业名单'!$B:$E,4,0)","v":"台山市"}]
["广东新众康制药有限公司","省级",{"$f":"VLOOKUP(A387,'[1]2024年薪酬调查定点调查企业名单'!$B:$E,4,0)","v":"鹤山市"}]
["台山鸿隆光电科技有限公司","省级",{"$f":"VLOOKUP(A388,'[1]2024年薪酬调查定点调查企业名单'!$B:$E,4,0)","v":"台山市"}]
["台山市佳顺物业有限公司","省级",{"$f":"VLOOKUP(A389,'[1]2024年薪酬调查定点调查企业名单'!$B:$E,4,0)","v":"台山市"}]
["广东德力光电有限公司","省级",{"$f":"VLOOKUP(A390,'[1]2024年薪酬调查定点调查企业名单'!$B:$E,4,0)","v":"江海区"}]
["开平市华发电梯工程发展有限公司","省级",{"$f":"VLOOKUP(A391,'[1]2024年薪酬调查定点调查企业名单'!$B:$E,4,0)","v":"开平市"}]
["中国太平洋人寿保险股份有限公司江门中心支公司","省级",{"$f":"VLOOKUP(A392,'[1]2024年薪酬调查定点调查企业名单'!$B:$E,4,0)","v":"蓬江区"}]
["台山市海宁出租车有限公司","省级",{"$f":"VLOOKUP(A393,'[1]2024年薪酬调查定点调查企业名单'!$B:$E,4,0)","v":"台山市"}]
["江门市鸿懋物业管理有限公司","省级",{"$f":"VLOOKUP(A394,'[1]2024年薪酬调查定点调查企业名单'!$B:$E,4,0)","v":"蓬江区"}]
["碧桂园生活服务集团股份有限公司开平分公司","省级",{"$f":"VLOOKUP(A395,'[1]2024年薪酬调查定点调查企业名单'!$B:$E,4,0)","v":"开平市"}]
["台山市广一皮业有限公司","省级",{"$f":"VLOOKUP(A396,'[1]2024年薪酬调查定点调查企业名单'!$B:$E,4,0)","v":"台山市"}]
["恩平市金蝴蝶食品有限公司","省级",{"$f":"VLOOKUP(A397,'[1]2024年薪酬调查定点调查企业名单'!$B:$E,4,0)","v":"恩平市"}]
["台山市利成乡镇供水有限公司","省级",{"$f":"VLOOKUP(A398,'[1]2024年薪酬调查定点调查企业名单'!$B:$E,4,0)","v":"台山市"}]
["盈新弹性织物（江门）有限公司","省级",{"$f":"VLOOKUP(A399,'[1]2024年薪酬调查定点调查企业名单'!$B:$E,4,0)","v":"新会区"}]
["江门华润混凝土棠下有限公司","省级",{"$f":"VLOOKUP(A400,'[1]2024年薪酬调查定点调查企业名单'!$B:$E,4,0)","v":"蓬江区"}]
["鹤山市碧桂园幼儿园","省级",{"$f":"VLOOKUP(A401,'[1]2024年薪酬调查定点调查企业名单'!$B:$E,4,0)","v":"鹤山市"}]
["开平市国顺公共交通有限公司","省级",{"$f":"VLOOKUP(A402,'[1]2024年薪酬调查定点调查企业名单'!$B:$E,4,0)","v":"开平市"}]
["恩平市恒大驾校有限公司","省级",{"$f":"VLOOKUP(A403,'[1]2024年薪酬调查定点调查企业名单'!$B:$E,4,0)","v":"恩平市"}]
["鹤山标达钢塑制品有限公司","省级",{"$f":"VLOOKUP(A404,'[1]2024年薪酬调查定点调查企业名单'!$B:$E,4,0)","v":"鹤山市"}]
["江门市怡诚汽车销售服务有限公司","省级",{"$f":"VLOOKUP(A405,'[1]2024年薪酬调查定点调查企业名单'!$B:$E,4,0)","v":"江海区"}]
["恩平市电力安装工程有限公司","省级",{"$f":"VLOOKUP(A406,'[1]2024年薪酬调查定点调查企业名单'!$B:$E,4,0)","v":"恩平市"}]
["江门市旭升混凝土有限公司","省级",{"$f":"VLOOKUP(A407,'[1]2024年薪酬调查定点调查企业名单'!$B:$E,4,0)","v":"蓬江区"}]
["江门市花木有限公司","省级",{"$f":"VLOOKUP(A408,'[1]2024年薪酬调查定点调查企业名单'!$B:$E,4,0)","v":"蓬江区"}]
["台山市兴荣包装制品有限公司","省级",{"$f":"VLOOKUP(A409,'[1]2024年薪酬调查定点调查企业名单'!$B:$E,4,0)","v":"台山市"}]
["江门市新恒星厨房用品有限公司","省级",{"$f":"VLOOKUP(A410,'[1]2024年薪酬调查定点调查企业名单'!$B:$E,4,0)","v":"蓬江区"}]
["江门市朗杰经贸有限公司","省级",{"$f":"VLOOKUP(A411,'[1]2024年薪酬调查定点调查企业名单'!$B:$E,4,0)","v":"蓬江区"}]
["江门市高力依科技实业有限公司","省级",{"$f":"VLOOKUP(A412,'[1]2024年薪酬调查定点调查企业名单'!$B:$E,4,0)","v":"江海区"}]
["广东华泰纸业有限公司","省级",{"$f":"VLOOKUP(A413,'[1]2024年薪酬调查定点调查企业名单'!$B:$E,4,0)","v":"新会区"}]
["江门市蓬江区欧罗富五金橡胶制品有限公司","省级",{"$f":"VLOOKUP(A414,'[1]2024年薪酬调查定点调查企业名单'!$B:$E,4,0)","v":"蓬江区"}]
["江门市启盛运输有限公司","省级",{"$f":"VLOOKUP(A415,'[1]2024年薪酬调查定点调查企业名单'!$B:$E,4,0)","v":"江海区"}]
["江门市跨世灯饰五金有限公司","省级",{"$f":"VLOOKUP(A416,'[1]2024年薪酬调查定点调查企业名单'!$B:$E,4,0)","v":"新会区"}]
["广东夏朋机车科技有限公司","省级",{"$f":"VLOOKUP(A417,'[1]2024年薪酬调查定点调查企业名单'!$B:$E,4,0)","v":"江海区"}]
["江门市利华进出口贸易有限公司","省级",{"$f":"VLOOKUP(A418,'[1]2024年薪酬调查定点调查企业名单'!$B:$E,4,0)","v":"蓬江区"}]
["鹤山国机南联摩托车工业有限公司","省级",{"$f":"VLOOKUP(A419,'[1]2024年薪酬调查定点调查企业名单'!$B:$E,4,0)","v":"鹤山市"}]
["鹤山市东古玥湖酒店有限公司","省级",{"$f":"VLOOKUP(A420,'[1]2024年薪酬调查定点调查企业名单'!$B:$E,4,0)","v":"鹤山市"}]
["江门市盛鑫充气玩具制品有限公司","省级",{"$f":"VLOOKUP(A421,'[1]2024年薪酬调查定点调查企业名单'!$B:$E,4,0)","v":"新会区"}]
["鹤山市长源燃气有限公司","省级",{"$f":"VLOOKUP(A422,'[1]2024年薪酬调查定点调查企业名单'!$B:$E,4,0)","v":"鹤山市"}]
["台山市嘉联房地产中介有限公司","省级",{"$f":"VLOOKUP(A423,'[1]2024年薪酬调查定点调查企业名单'!$B:$E,4,0)","v":"台山市"}]
["江门市金汇物业管理有限公司","省级",{"$f":"VLOOKUP(A424,'[1]2024年薪酬调查定点调查企业名单'!$B:$E,4,0)","v":"蓬江区"}]
["广东丽光机电工业有限公司","省级",{"$f":"VLOOKUP(A425,'[1]2024年薪酬调查定点调查企业名单'!$B:$E,4,0)","v":"江海区"}]
["开平马力塑胶制品厂","省级",{"$f":"VLOOKUP(A426,'[1]2024年薪酬调查定点调查企业名单'!$B:$E,4,0)","v":"开平市"}]
["中国平安人寿保险股份有限公司江门中心支公司","省级",{"$f":"VLOOKUP(A427,'[1]2024年薪酬调查定点调查企业名单'!$B:$E,4,0)","v":"蓬江区"}]
["恩平燕怡新材料有限公司","省级",{"$f":"VLOOKUP(A428,'[1]2024年薪酬调查定点调查企业名单'!$B:$E,4,0)","v":"恩平市"}]
["鹤山市广裕电器实业有限公司","省级",{"$f":"VLOOKUP(A429,'[1]2024年薪酬调查定点调查企业名单'!$B:$E,4,0)","v":"鹤山市"}]
["江门市广悦电化有限公司","省级",{"$f":"VLOOKUP(A430,'[1]2024年薪酬调查定点调查企业名单'!$B:$E,4,0)","v":"江海区"}]
["鹤山市辉煌电气安装工程有限公司","省级",{"$f":"VLOOKUP(A431,'[1]2024年薪酬调查定点调查企业名单'!$B:$E,4,0)","v":"鹤山市"}]
["江门良和物业服务有限公司","省级",{"$f":"VLOOKUP(A432,'[1]2024年薪酬调查定点调查企业名单'!$B:$E,4,0)","v":"蓬江区"}]
["广东敞开电气有限公司","省级",{"$f":"VLOOKUP(A433,'[1]2024年薪酬调查定点调查企业名单'!$B:$E,4,0)","v":"开平市"}]
["恒和珠宝（江门）有限公司","省级",{"$f":"VLOOKUP(A434,'[1]2024年薪酬调查定点调查企业名单'!$B:$E,4,0)","v":"蓬江区"}]
["江门市蓬江区融顺怡景山庄有限公司","省级",{"$f":"VLOOKUP(A435,'[1]2024年薪酬调查定点调查企业名单'!$B:$E,4,0)","v":"蓬江区"}]
["台山平安五金制品有限公司","省级",{"$f":"VLOOKUP(A436,'[1]2024年薪酬调查定点调查企业名单'!$B:$E,4,0)","v":"台山市"}]
["鹤山市利联纸品有限公司","省级",{"$f":"VLOOKUP(A437,'[1]2024年薪酬调查定点调查企业名单'!$B:$E,4,0)","v":"鹤山市"}]
["江门市德康镀膜有限公司","省级",{"$f":"VLOOKUP(A438,'[1]2024年薪酬调查定点调查企业名单'!$B:$E,4,0)","v":"新会区"}]
["江门市东方不锈钢制品有限公司","省级",{"$f":"VLOOKUP(A439,'[1]2024年薪酬调查定点调查企业名单'!$B:$E,4,0)","v":"蓬江区"}]
["江门市蓬江区荷塘资产经营管理有限公司","省级",{"$f":"VLOOKUP(A440,'[1]2024年薪酬调查定点调查企业名单'!$B:$E,4,0)","v":"蓬江区"}]
["江裕科技园（新会）有限公司","省级",{"$f":"VLOOKUP(A441,'[1]2024年薪酬调查定点调查企业名单'!$B:$E,4,0)","v":"新会区"}]
["广东博艺广告有限公司","省级",{"$f":"VLOOKUP(A442,'[1]2024年薪酬调查定点调查企业名单'!$B:$E,4,0)","v":"蓬江区"}]
["江门市新会区沙堆供水有限公司","省级",{"$f":"VLOOKUP(A443,'[1]2024年薪酬调查定点调查企业名单'!$B:$E,4,0)","v":"新会区"}]
["江门市时尚五金实业有限公司","省级",{"$f":"VLOOKUP(A444,'[1]2024年薪酬调查定点调查企业名单'!$B:$E,4,0)","v":"江海区"}]
["江门光辉口腔诊所","省级",{"$f":"VLOOKUP(A445,'[1]2024年薪酬调查定点调查企业名单'!$B:$E,4,0)","v":"蓬江区"}]
["恩平市君汇物业管理有限公司","省级",{"$f":"VLOOKUP(A446,'[1]2024年薪酬调查定点调查企业名单'!$B:$E,4,0)","v":"恩平市"}]
["江门市新会区沙堆镇维雅纺织制衣有限公司","省级",{"$f":"VLOOKUP(A447,'[1]2024年薪酬调查定点调查企业名单'!$B:$E,4,0)","v":"新会区"}]
["爱玛客服务产业（中国）有限公司江门分公司","省级",{"$f":"VLOOKUP(A448,'[1]2024年薪酬调查定点调查企业名单'!$B:$E,4,0)","v":"新会区"}]
["维达商贸有限公司","省级",{"$f":"VLOOKUP(A449,'[1]2024年薪酬调查定点调查企业名单'!$B:$E,4,0)","v":"新会区"}]
["开平市潭江粮油储备有限公司","省级",{"$f":"VLOOKUP(A450,'[1]2024年薪酬调查定点调查企业名单'!$B:$E,4,0)","v":"开平市"}]
["江门市恒卓理容器材有限公司","省级",{"$f":"VLOOKUP(A451,'[1]2024年薪酬调查定点调查企业名单'!$B:$E,4,0)","v":"新会区"}]
["华润混凝土（江门）有限公司","省级",{"$f":"VLOOKUP(A452,'[1]2024年薪酬调查定点调查企业名单'!$B:$E,4,0)","v":"新会区"}]
["江门市力锋五金实业有限公司","省级",{"$f":"VLOOKUP(A453,'[1]2024年薪酬调查定点调查企业名单'!$B:$E,4,0)","v":"新会区"}]
["江门市文旅交通投资集团有限公司恩平汽车总站","省级",{"$f":"VLOOKUP(A454,'[1]2024年薪酬调查定点调查企业名单'!$B:$E,4,0)","v":"恩平市"}]
["广东省台山市第六建筑工程总公司","省级",{"$f":"VLOOKUP(A455,'[1]2024年薪酬调查定点调查企业名单'!$B:$E,4,0)","v":"台山市"}]
["江门吕泉记五金制品厂","省级",{"$f":"VLOOKUP(A456,'[1]2024年薪酬调查定点调查企业名单'!$B:$E,4,0)","v":"蓬江区"}]
["江门明浩电力工程监理有限公司","省级",{"$f":"VLOOKUP(A457,'[1]2024年薪酬调查定点调查企业名单'!$B:$E,4,0)","v":"蓬江区"}]
["江门华润万家生活超市有限公司恩城店","省级",{"$f":"VLOOKUP(A458,'[1]2024年薪酬调查定点调查企业名单'!$B:$E,4,0)","v":"恩平市"}]
["江门市利华实业有限公司","省级",{"$f":"VLOOKUP(A459,'[1]2024年薪酬调查定点调查企业名单'!$B:$E,4,0)","v":"蓬江区"}]
["江门市芳源新能源材料有限公司","省级",{"$f":"VLOOKUP(A460,'[1]2024年薪酬调查定点调查企业名单'!$B:$E,4,0)","v":"新会区"}]
["江门市恩威物业工程有限公司","省级",{"$f":"VLOOKUP(A461,'[1]2024年薪酬调查定点调查企业名单'!$B:$E,4,0)","v":"蓬江区"}]
["广东省仁丰五金电器有限公司","省级",{"$f":"VLOOKUP(A462,'[1]2024年薪酬调查定点调查企业名单'!$B:$E,4,0)","v":"台山市"}]
["江门市蓬江区永卫荣餐饮有限公司","省级",{"$f":"VLOOKUP(A463,'[1]2024年薪酬调查定点调查企业名单'!$B:$E,4,0)","v":"蓬江区"}]
["开平太平洋绝缘材料有限公司","省级",{"$f":"VLOOKUP(A464,'[1]2024年薪酬调查定点调查企业名单'!$B:$E,4,0)","v":"开平市"}]
["广东鸿图新材料科技有限公司","省级",{"$f":"VLOOKUP(A465,'[1]2024年薪酬调查定点调查企业名单'!$B:$E,4,0)","v":"鹤山市"}]
["江门京环环境服务有限公司","省级",{"$f":"VLOOKUP(A466,'[1]2024年薪酬调查定点调查企业名单'!$B:$E,4,0)","v":"蓬江区"}]
["江门市电力工程输变电有限公司","省级",{"$f":"VLOOKUP(A467,'[1]2024年薪酬调查定点调查企业名单'!$B:$E,4,0)","v":"蓬江区"}]
["江门广之旅旅行社有限公司","省级",{"$f":"VLOOKUP(A468,'[1]2024年薪酬调查定点调查企业名单'!$B:$E,4,0)","v":"蓬江区"}]
["江门市宜大化工储运有限公司","省级",{"$f":"VLOOKUP(A469,'[1]2024年薪酬调查定点调查企业名单'!$B:$E,4,0)","v":"新会区"}]
["中国人寿财产保险股份有限公司江门中心支公司","省级",{"$f":"VLOOKUP(A470,'[1]2024年薪酬调查定点调查企业名单'!$B:$E,4,0)","v":"蓬江区"}]
["江门市汇悦城物业管理有限公司","省级",{"$f":"VLOOKUP(A471,'[1]2024年薪酬调查定点调查企业名单'!$B:$E,4,0)","v":"蓬江区"}]
["江门市丰悦贸易有限公司","省级",{"$f":"VLOOKUP(A472,'[1]2024年薪酬调查定点调查企业名单'!$B:$E,4,0)","v":"蓬江区"}]
["迪克印材（江门）有限公司","省级",{"$f":"VLOOKUP(A473,'[1]2024年薪酬调查定点调查企业名单'!$B:$E,4,0)","v":"鹤山市"}]
["江门市新会银海水务建设投资有限公司","省级",{"$f":"VLOOKUP(A474,'[1]2024年薪酬调查定点调查企业名单'!$B:$E,4,0)","v":"新会区"}]
["鹤山高尔夫俱乐部有限公司","省级",{"$f":"VLOOKUP(A475,'[1]2024年薪酬调查定点调查企业名单'!$B:$E,4,0)","v":"鹤山市"}]
["江门市朗美商贸有限公司","省级",{"$f":"VLOOKUP(A476,'[1]2024年薪酬调查定点调查企业名单'!$B:$E,4,0)","v":"蓬江区"}]
["开平市源成达塑料制品有限公司","省级",{"$f":"VLOOKUP(A477,'[1]2024年薪酬调查定点调查企业名单'!$B:$E,4,0)","v":"开平市"}]
["台山市东扩钢构有限公司","省级",{"$f":"VLOOKUP(A478,'[1]2024年薪酬调查定点调查企业名单'!$B:$E,4,0)","v":"台山市"}]
["江门市卡迪共享服务有限公司","省级",{"$f":"VLOOKUP(A479,'[1]2024年薪酬调查定点调查企业名单'!$B:$E,4,0)","v":"蓬江区"}]
["广东省南方传媒发行物流有限公司江门分公司","省级",{"$f":"VLOOKUP(A480,'[1]2024年薪酬调查定点调查企业名单'!$B:$E,4,0)","v":"蓬江区"}]
["台山市碧桂园房地产开发有限公司","省级",{"$f":"VLOOKUP(A481,'[1]2024年薪酬调查定点调查企业名单'!$B:$E,4,0)","v":"台山市"}]
["阳光财产保险股份有限公司江门中心支公司","省级",{"$f":"VLOOKUP(A482,'[1]2024年薪酬调查定点调查企业名单'!$B:$E,4,0)","v":"蓬江区"}]
["恩平市超达工业园管理有限公司","省级",{"$f":"VLOOKUP(A483,'[1]2024年薪酬调查定点调查企业名单'!$B:$E,4,0)","v":"恩平市"}]
["江门加德士石油产品有限公司鹤山雅瑶加油站","省级",{"$f":"VLOOKUP(A484,'[1]2024年薪酬调查定点调查企业名单'!$B:$E,4,0)","v":"鹤山市"}]
["广东南奥交通设备有限公司","省级",{"$f":"VLOOKUP(A485,'[1]2024年薪酬调查定点调查企业名单'!$B:$E,4,0)","v":"新会区"}]
["江门市德悦进出口有限公司","省级",{"$f":"VLOOKUP(A486,'[1]2024年薪酬调查定点调查企业名单'!$B:$E,4,0)","v":"蓬江区"}]
["江门市蓬江区融顺机动车维修厂","省级",{"$f":"VLOOKUP(A487,'[1]2024年薪酬调查定点调查企业名单'!$B:$E,4,0)","v":"蓬江区"}]
["江门广播电视文化发展有限公司","省级",{"$f":"VLOOKUP(A488,'[1]2024年薪酬调查定点调查企业名单'!$B:$E,4,0)","v":"蓬江区"}]
["江门富士玩具有限公司","省级",{"$f":"VLOOKUP(A489,'[1]2024年薪酬调查定点调查企业名单'!$B:$E,4,0)","v":"蓬江区"}]
["广东生和堂健康食品股份有限公司","省级",{"$f":"VLOOKUP(A490,'[1]2024年薪酬调查定点调查企业名单'!$B:$E,4,0)","v":"江海区"}]
["台山市金利达印刷包装有限公司","省级",{"$f":"VLOOKUP(A491,'[1]2024年薪酬调查定点调查企业名单'!$B:$E,4,0)","v":"台山市"}]
["江门申强塑料机械有限公司","省级",{"$f":"VLOOKUP(A492,'[1]2024年薪酬调查定点调查企业名单'!$B:$E,4,0)","v":"江海区"}]
["华电福新江门能源有限公司","省级",{"$f":"VLOOKUP(A493,'[1]2024年薪酬调查定点调查企业名单'!$B:$E,4,0)","v":"蓬江区"}]
["江门市江发粮油商贸有限公司","省级",{"$f":"VLOOKUP(A494,'[1]2024年薪酬调查定点调查企业名单'!$B:$E,4,0)","v":"蓬江区"}]
["佳光电子（台山）有限公司","省级",{"$f":"VLOOKUP(A495,'[1]2024年薪酬调查定点调查企业名单'!$B:$E,4,0)","v":"台山市"}]
["广东泉林旅游开发股份有限公司","省级",{"$f":"VLOOKUP(A496,'[1]2024年薪酬调查定点调查企业名单'!$B:$E,4,0)","v":"恩平市"}]
["广东同方科技园有限公司","省级",{"$f":"VLOOKUP(A497,'[1]2024年薪酬调查定点调查企业名单'!$B:$E,4,0)","v":"鹤山市"}]
["广东聚源建设集团有限公司","省级",{"$f":"VLOOKUP(A498,'[1]2024年薪酬调查定点调查企业名单'!$B:$E,4,0)","v":"开平市"}]
["恩平市鼎力音响设备有限公司","省级",{"$f":"VLOOKUP(A499,'[1]2024年薪酬调查定点调查企业名单'!$B:$E,4,0)","v":"恩平市"}]
["广东汇智信息工程有限公司","省级",{"$f":"VLOOKUP(A500,'[1]2024年薪酬调查定点调查企业名单'!$B:$E,4,0)","v":"蓬江区"}]
["江门市江海区品泰皮具有限公司","省级",{"$f":"VLOOKUP(A501,'[1]2024年薪酬调查定点调查企业名单'!$B:$E,4,0)","v":"江海区"}]
["广东珠超俱乐部有限公司","省级",{"$f":"VLOOKUP(A502,'[1]2024年薪酬调查定点调查企业名单'!$B:$E,4,0)","v":"新会区"}]
["江门市潮连自来水服务公司","省级",{"$f":"VLOOKUP(A503,'[1]2024年薪酬调查定点调查企业名单'!$B:$E,4,0)","v":"蓬江区"}]
["江门市富生钢结构有限公司","省级",{"$f":"VLOOKUP(A504,'[1]2024年薪酬调查定点调查企业名单'!$B:$E,4,0)","v":"开平市"}]
["江门市先达电脑科技有限公司","省级",{"$f":"VLOOKUP(A505,'[1]2024年薪酬调查定点调查企业名单'!$B:$E,4,0)","v":"蓬江区"}]
["台山市捷达电器有限公司","省级",{"$f":"VLOOKUP(A506,'[1]2024年薪酬调查定点调查企业名单'!$B:$E,4,0)","v":"台山市"}]
["新会粤新热电联供有限公司","省级",{"$f":"VLOOKUP(A507,'[1]2024年薪酬调查定点调查企业名单'!$B:$E,4,0)","v":"新会区"}]
["江门市滨江供水有限公司","省级",{"$f":"VLOOKUP(A508,'[1]2024年薪酬调查定点调查企业名单'!$B:$E,4,0)","v":"蓬江区"}]
["开平市李氏实业发展有限公司","省级",{"$f":"VLOOKUP(A509,'[1]2024年薪酬调查定点调查企业名单'!$B:$E,4,0)","v":"开平市"}]
["恩平市贝加尔音响器材有限公司","省级",{"$f":"VLOOKUP(A510,'[1]2024年薪酬调查定点调查企业名单'!$B:$E,4,0)","v":"恩平市"}]
["开平市为民机动车驾驶培训有限公司","省级",{"$f":"VLOOKUP(A511,'[1]2024年薪酬调查定点调查企业名单'!$B:$E,4,0)","v":"开平市"}]
["台山市合众食品企业有限公司","省级",{"$f":"VLOOKUP(A512,'[1]2024年薪酬调查定点调查企业名单'!$B:$E,4,0)","v":"台山市"}]
["广东鑫佰威新材料科技有限公司","省级",{"$f":"VLOOKUP(A513,'[1]2024年薪酬调查定点调查企业名单'!$B:$E,4,0)","v":"新会区"}]
["江门进口汽车服务有限公司","省级",{"$f":"VLOOKUP(A514,'[1]2024年薪酬调查定点调查企业名单'!$B:$E,4,0)","v":"蓬江区"}]
["江门市靓度照明科技有限公司","省级",{"$f":"VLOOKUP(A515,'[1]2024年薪酬调查定点调查企业名单'!$B:$E,4,0)","v":"江海区"}]
["江门市蓬江区新科东方通信网络有限公司","省级",{"$f":"VLOOKUP(A516,'[1]2024年薪酬调查定点调查企业名单'!$B:$E,4,0)","v":"蓬江区"}]
["广东顺畅科技有限公司","省级",{"$f":"VLOOKUP(A517,'[1]2024年薪酬调查定点调查企业名单'!$B:$E,4,0)","v":"蓬江区"}]
["江门市伯爵厨房餐饮管理有限公司","省级",{"$f":"VLOOKUP(A518,'[1]2024年薪酬调查定点调查企业名单'!$B:$E,4,0)","v":"蓬江区"}]
["开平市冠兴化妆品包装厂","省级",{"$f":"VLOOKUP(A519,'[1]2024年薪酬调查定点调查企业名单'!$B:$E,4,0)","v":"开平市"}]
["江门市江海区礼乐第一城渔村酒家","省级",{"$f":"VLOOKUP(A520,'[1]2024年薪酬调查定点调查企业名单'!$B:$E,4,0)","v":"江海区"}]
["台山市达利糖果玩品有限公司","省级",{"$f":"VLOOKUP(A521,'[1]2024年薪酬调查定点调查企业名单'!$B:$E,4,0)","v":"台山市"}]
["广东世运电路科技股份有限公司","省级",{"$f":"VLOOKUP(A522,'[1]2024年薪酬调查定点调查企业名单'!$B:$E,4,0)","v":"鹤山市"}]
["江门市浩远电子科技有限公司","省级",{"$f":"VLOOKUP(A523,'[1]2024年薪酬调查定点调查企业名单'!$B:$E,4,0)","v":"江海区"}]
["江门万富酒店管理有限公司江门分公司","省级",{"$f":"VLOOKUP(A524,'[1]2024年薪酬调查定点调查企业名单'!$B:$E,4,0)","v":"蓬江区"}]
["龙堡食品（广东）有限公司","省级",{"$f":"VLOOKUP(A525,'[1]2024年薪酬调查定点调查企业名单'!$B:$E,4,0)","v":"鹤山市"}]
["江门市蓬江区海豚水族有限公司","省级",{"$f":"VLOOKUP(A526,'[1]2024年薪酬调查定点调查企业名单'!$B:$E,4,0)","v":"蓬江区"}]
["江门市金泉家庭用品有限公司","省级",{"$f":"VLOOKUP(A527,'[1]2024年薪酬调查定点调查企业名单'!$B:$E,4,0)","v":"蓬江区"}]
["台山市祥兴行制衣有限公司","省级",{"$f":"VLOOKUP(A528,'[1]2024年薪酬调查定点调查企业名单'!$B:$E,4,0)","v":"台山市"}]
["江门市新会格盈电器有限公司","省级",{"$f":"VLOOKUP(A529,'[1]2024年薪酬调查定点调查企业名单'!$B:$E,4,0)","v":"新会区"}]
["江门市信安环境监测检测有限公司","省级",{"$f":"VLOOKUP(A530,'[1]2024年薪酬调查定点调查企业名单'!$B:$E,4,0)","v":"新会区"}]
["江门绿岛假日酒店有限公司","省级",{"$f":"VLOOKUP(A531,'[1]2024年薪酬调查定点调查企业名单'!$B:$E,4,0)","v":"蓬江区"}]
["蓬江区汇悦城老广新意茶餐厅","省级",{"$f":"VLOOKUP(A532,'[1]2024年薪酬调查定点调查企业名单'!$B:$E,4,0)","v":"蓬江区"}]
["江门华润万家生活超市有限公司","省级",{"$f":"VLOOKUP(A533,'[1]2024年薪酬调查定点调查企业名单'!$B:$E,4,0)","v":"蓬江区"}]
["江门市新三联管桩有限公司","省级",{"$f":"VLOOKUP(A534,'[1]2024年薪酬调查定点调查企业名单'!$B:$E,4,0)","v":"江海区"}]
["开平美力服装有限公司","省级",{"$f":"VLOOKUP(A535,'[1]2024年薪酬调查定点调查企业名单'!$B:$E,4,0)","v":"开平市"}]
["广东天地壹号饮料销售有限公司","省级",{"$f":"VLOOKUP(A536,'[1]2024年薪酬调查定点调查企业名单'!$B:$E,4,0)","v":"蓬江区"}]
["台山市德盈物业有限公司","省级",{"$f":"VLOOKUP(A537,'[1]2024年薪酬调查定点调查企业名单'!$B:$E,4,0)","v":"台山市"}]
["开平市互力数码科技工程有限公司","省级",{"$f":"VLOOKUP(A538,'[1]2024年薪酬调查定点调查企业名单'!$B:$E,4,0)","v":"开平市"}]
["广东鹤山北控水务有限公司","省级",{"$f":"VLOOKUP(A539,'[1]2024年薪酬调查定点调查企业名单'!$B:$E,4,0)","v":"鹤山市"}]
["江门市合祺汽车销售服务有限公司","省级",{"$f":"VLOOKUP(A540,'[1]2024年薪酬调查定点调查企业名单'!$B:$E,4,0)","v":"新会区"}]
["开平市供水集团有限公司","省级",{"$f":"VLOOKUP(A541,'[1]2024年薪酬调查定点调查企业名单'!$B:$E,4,0)","v":"开平市"}]
["江门市博士汇信息科技有限公司","省级",{"$f":"VLOOKUP(A542,'[1]2024年薪酬调查定点调查企业名单'!$B:$E,4,0)","v":"蓬江区"}]
["江门市方诚文化传播有限公司","省级",{"$f":"VLOOKUP(A543,'[1]2024年薪酬调查定点调查企业名单'!$B:$E,4,0)","v":"蓬江区"}]
["江门市新会区大生纤维编织有限公司","省级",{"$f":"VLOOKUP(A544,'[1]2024年薪酬调查定点调查企业名单'!$B:$E,4,0)","v":"新会区"}]
["江门市金明源商贸有限公司","省级",{"$f":"VLOOKUP(A545,'[1]2024年薪酬调查定点调查企业名单'!$B:$E,4,0)","v":"蓬江区"}]
["广东繁星医养集团有限公司","省级",{"$f":"VLOOKUP(A546,'[1]2024年薪酬调查定点调查企业名单'!$B:$E,4,0)","v":"蓬江区"}]
["江门市蓬江区华皓盛世教育咨询有限公司","省级",{"$f":"VLOOKUP(A547,'[1]2024年薪酬调查定点调查企业名单'!$B:$E,4,0)","v":"蓬江区"}]
["江门市优彼思化学技术有限公司","省级",{"$f":"VLOOKUP(A548,'[1]2024年薪酬调查定点调查企业名单'!$B:$E,4,0)","v":"新会区"}]
["雅图高新材料股份有限公司","省级",{"$f":"VLOOKUP(A549,'[1]2024年薪酬调查定点调查企业名单'!$B:$E,4,0)","v":"鹤山市"}]
["广东泰程通信技术有限公司","省级",{"$f":"VLOOKUP(A550,'[1]2024年薪酬调查定点调查企业名单'!$B:$E,4,0)","v":"蓬江区"}]
["江门市一汇商贸管理有限公司","省级",{"$f":"VLOOKUP(A551,'[1]2024年薪酬调查定点调查企业名单'!$B:$E,4,0)","v":"蓬江区"}]
["中集车辆（江门市）有限公司","省级",{"$f":"VLOOKUP(A552,'[1]2024年薪酬调查定点调查企业名单'!$B:$E,4,0)","v":"新会区"}]
["江门江演创艺服务有限公司","省级",{"$f":"VLOOKUP(A553,'[1]2024年薪酬调查定点调查企业名单'!$B:$E,4,0)","v":"江海区"}]
["鹤山市得润电子科技有限公司","省级",{"$f":"VLOOKUP(A554,'[1]2024年薪酬调查定点调查企业名单'!$B:$E,4,0)","v":"鹤山市"}]
["江门市伟烨物业管理有限公司","省级",{"$f":"VLOOKUP(A555,'[1]2024年薪酬调查定点调查企业名单'!$B:$E,4,0)","v":"新会区"}]
["广东凯特精密机械有限公司","省级",{"$f":"VLOOKUP(A556,'[1]2024年薪酬调查定点调查企业名单'!$B:$E,4,0)","v":"新会区"}]
["远大鸿信食品（广东）有限公司","省级",{"$f":"VLOOKUP(A557,'[1]2024年薪酬调查定点调查企业名单'!$B:$E,4,0)","v":"新会区"}]
["江门市鼎丰皮饰有限公司","省级",{"$f":"VLOOKUP(A558,'[1]2024年薪酬调查定点调查企业名单'!$B:$E,4,0)","v":"新会区"}]
["台山广扬皮业有限公司","省级",{"$f":"VLOOKUP(A559,'[1]2024年薪酬调查定点调查企业名单'!$B:$E,4,0)","v":"台山市"}]
["江门市蓬江区骏景湾领峰房地产有限公司","省级",{"$f":"VLOOKUP(A560,'[1]2024年薪酬调查定点调查企业名单'!$B:$E,4,0)","v":"蓬江区"}]
["新辉（中国）新材料有限公司","省级",{"$f":"VLOOKUP(A561,'[1]2024年薪酬调查定点调查企业名单'!$B:$E,4,0)","v":"新会区"}]
["江门市点点行贸易有限公司","省级",{"$f":"VLOOKUP(A562,'[1]2024年薪酬调查定点调查企业名单'!$B:$E,4,0)","v":"蓬江区"}]
["江门市君盛实业有限公司","省级",{"$f":"VLOOKUP(A563,'[1]2024年薪酬调查定点调查企业名单'!$B:$E,4,0)","v":"江海区"}]
["中国联合网络通信有限公司江门市分公司","省级",{"$f":"VLOOKUP(A564,'[1]2024年薪酬调查定点调查企业名单'!$B:$E,4,0)","v":"蓬江区"}]
["江门市南洋船舶工程有限公司","省级",{"$f":"VLOOKUP(A565,'[1]2024年薪酬调查定点调查企业名单'!$B:$E,4,0)","v":"新会区"}]
["广州万达国际电影城有限公司江门分公司","省级",{"$f":"VLOOKUP(A566,'[1]2024年薪酬调查定点调查企业名单'!$B:$E,4,0)","v":"蓬江区"}]
["江门市蓬江区科先达机械制造有限公司","省级",{"$f":"VLOOKUP(A567,'[1]2024年薪酬调查定点调查企业名单'!$B:$E,4,0)","v":"蓬江区"}]
["江门市东申大电机有限公司","省级",{"$f":"VLOOKUP(A568,'[1]2024年薪酬调查定点调查企业名单'!$B:$E,4,0)","v":"江海区"}]
["广东日大照明有限公司","省级",{"$f":"VLOOKUP(A569,'[1]2024年薪酬调查定点调查企业名单'!$B:$E,4,0)","v":"江海区"}]
["江门诺华精密电子有限公司","省级",{"$f":"VLOOKUP(A570,'[1]2024年薪酬调查定点调查企业名单'!$B:$E,4,0)","v":"江海区"}]
["江门建滔积层板有限公司","省级",{"$f":"VLOOKUP(A571,'[1]2024年薪酬调查定点调查企业名单'!$B:$E,4,0)","v":"江海区"}]
["江门市宏丰电子科技有限公司","省级",{"$f":"VLOOKUP(A572,'[1]2024年薪酬调查定点调查企业名单'!$B:$E,4,0)","v":"江海区"}]
["江门市百晖纺织有限公司","省级",{"$f":"VLOOKUP(A573,'[1]2024年薪酬调查定点调查企业名单'!$B:$E,4,0)","v":"新会区"}]
["江门市思威特实业发展有限公司","省级",{"$f":"VLOOKUP(A574,'[1]2024年薪酬调查定点调查企业名单'!$B:$E,4,0)","v":"江海区"}]
["江门市科业电器制造有限公司","省级",{"$f":"VLOOKUP(A575,'[1]2024年薪酬调查定点调查企业名单'!$B:$E,4,0)","v":"蓬江区"}]
["台山市皇冠桌球制品有限公司","省级",{"$f":"VLOOKUP(A576,'[1]2024年薪酬调查定点调查企业名单'!$B:$E,4,0)","v":"台山市"}]
["江门市力士达泵业制造有限公司","省级",{"$f":"VLOOKUP(A577,'[1]2024年薪酬调查定点调查企业名单'!$B:$E,4,0)","v":"江海区"}]
["广东恒健制药有限公司","省级",{"$f":"VLOOKUP(A578,'[1]2024年薪酬调查定点调查企业名单'!$B:$E,4,0)","v":"江海区"}]
["江门市蓬江区富华实业有限公司","省级",{"$f":"VLOOKUP(A579,'[1]2024年薪酬调查定点调查企业名单'!$B:$E,4,0)","v":"蓬江区"}]
["江门市新会区亿诺五金制品有限公司","省级",{"$f":"VLOOKUP(A580,'[1]2024年薪酬调查定点调查企业名单'!$B:$E,4,0)","v":"新会区"}]
["江门市新会区金萃金属制品有限公司","省级",{"$f":"VLOOKUP(A581,'[1]2024年薪酬调查定点调查企业名单'!$B:$E,4,0)","v":"新会区"}]
["江门市江海区华源混凝土有限公司","省级",{"$f":"VLOOKUP(A582,'[1]2024年薪酬调查定点调查企业名单'!$B:$E,4,0)","v":"江海区"}]
["开平威镫电器有限公司","省级",{"$f":"VLOOKUP(A583,'[1]2024年薪酬调查定点调查企业名单'!$B:$E,4,0)","v":"开平市"}]
["江门市蓬江区康溪双源制衣有限公司","省级",{"$f":"VLOOKUP(A584,'[1]2024年薪酬调查定点调查企业名单'!$B:$E,4,0)","v":"蓬江区"}]
["开平凯德家用电器有限公司","省级",{"$f":"VLOOKUP(A585,'[1]2024年薪酬调查定点调查企业名单'!$B:$E,4,0)","v":"开平市"}]
["江门艾美斯纺织品有限公司","省级",{"$f":"VLOOKUP(A586,'[1]2024年薪酬调查定点调查企业名单'!$B:$E,4,0)","v":"蓬江区"}]
["广东基顺隆新型药用包装材料有限公司","省级",{"$f":"VLOOKUP(A587,'[1]2024年薪酬调查定点调查企业名单'!$B:$E,4,0)","v":"蓬江区"}]
["广东东睦新材料有限公司","省级",{"$f":"VLOOKUP(A588,'[1]2024年薪酬调查定点调查企业名单'!$B:$E,4,0)","v":"蓬江区"}]
["江门市隆钢五金制品有限公司","省级",{"$f":"VLOOKUP(A589,'[1]2024年薪酬调查定点调查企业名单'!$B:$E,4,0)","v":"蓬江区"}]
["江门意玛克户外动力设备有限公司","省级",{"$f":"VLOOKUP(A590,'[1]2024年薪酬调查定点调查企业名单'!$B:$E,4,0)","v":"蓬江区"}]
["江门市高成数控机械有限公司","省级",{"$f":"VLOOKUP(A591,'[1]2024年薪酬调查定点调查企业名单'!$B:$E,4,0)","v":"蓬江区"}]
["江门市明成电工制造有限公司","省级",{"$f":"VLOOKUP(A592,'[1]2024年薪酬调查定点调查企业名单'!$B:$E,4,0)","v":"江海区"}]
["江门市蓬江区嘉和泰富茶楼有限公司","省级",{"$f":"VLOOKUP(A593,'[1]2024年薪酬调查定点调查企业名单'!$B:$E,4,0)","v":"蓬江区"}]
["开平市坚濠电器制造有限公司","省级",{"$f":"VLOOKUP(A594,'[1]2024年薪酬调查定点调查企业名单'!$B:$E,4,0)","v":"开平市"}]
["江门市蓬江区潮连富岗弹簧厂","省级",{"$f":"VLOOKUP(A595,'[1]2024年薪酬调查定点调查企业名单'!$B:$E,4,0)","v":"蓬江区"}]
["广东安飞汽车配件有限公司","省级",{"$f":"VLOOKUP(A596,'[1]2024年薪酬调查定点调查企业名单'!$B:$E,4,0)","v":"蓬江区"}]
["江门国精合成材料有限公司","省级",{"$f":"VLOOKUP(A597,'[1]2024年薪酬调查定点调查企业名单'!$B:$E,4,0)","v":"蓬江区"}]
["江门市西北五金钢管厂有限公司","省级",{"$f":"VLOOKUP(A598,'[1]2024年薪酬调查定点调查企业名单'!$B:$E,4,0)","v":"蓬江区"}]
["江门海螺水泥有限公司","省级",{"$f":"VLOOKUP(A599,'[1]2024年薪酬调查定点调查企业名单'!$B:$E,4,0)","v":"新会区"}]
["广东阿博特数码纸业有限公司","省级",{"$f":"VLOOKUP(A600,'[1]2024年薪酬调查定点调查企业名单'!$B:$E,4,0)","v":"新会区"}]
["江门市海星游艇制造有限公司","省级",{"$f":"VLOOKUP(A601,'[1]2024年薪酬调查定点调查企业名单'!$B:$E,4,0)","v":"新会区"}]
["江门市江新铸造厂有限公司","省级",{"$f":"VLOOKUP(A602,'[1]2024年薪酬调查定点调查企业名单'!$B:$E,4,0)","v":"新会区"}]
["江门市新会恒隆家居创新用品有限公司","省级",{"$f":"VLOOKUP(A603,'[1]2024年薪酬调查定点调查企业名单'!$B:$E,4,0)","v":"新会区"}]
["江门市盈信金属制品有限公司","省级",{"$f":"VLOOKUP(A604,'[1]2024年薪酬调查定点调查企业名单'!$B:$E,4,0)","v":"新会区"}]
["江门市长河化工实业集团有限公司","省级",{"$f":"VLOOKUP(A605,'[1]2024年薪酬调查定点调查企业名单'!$B:$E,4,0)","v":"新会区"}]
["台山市展丰制冷厨具设备厂有限公司","省级",{"$f":"VLOOKUP(A606,'[1]2024年薪酬调查定点调查企业名单'!$B:$E,4,0)","v":"台山市"}]
["台山市心华药用包装有限公司","省级",{"$f":"VLOOKUP(A607,'[1]2024年薪酬调查定点调查企业名单'!$B:$E,4,0)","v":"台山市"}]
["广东家乐仕电器有限公司","省级",{"$f":"VLOOKUP(A608,'[1]2024年薪酬调查定点调查企业名单'!$B:$E,4,0)","v":"台山市"}]
["台山市意立达瓦斯器材有限公司","省级",{"$f":"VLOOKUP(A609,'[1]2024年薪酬调查定点调查企业名单'!$B:$E,4,0)","v":"台山市"}]
["台山市三盛智能金属家具制造有限公司","省级",{"$f":"VLOOKUP(A610,'[1]2024年薪酬调查定点调查企业名单'!$B:$E,4,0)","v":"台山市"}]
["银都拉玛（开平）高性能纤维有限公司","省级",{"$f":"VLOOKUP(A611,'[1]2024年薪酬调查定点调查企业名单'!$B:$E,4,0)","v":"开平市"}]
["银都拉玛（开平）高性能纤维第三有限公司","省级",{"$f":"VLOOKUP(A612,'[1]2024年薪酬调查定点调查企业名单'!$B:$E,4,0)","v":"开平市"}]
["江门市科能电子有限公司","省级",{"$f":"VLOOKUP(A613,'[1]2024年薪酬调查定点调查企业名单'!$B:$E,4,0)","v":"新会区"}]
["江门市新之城老广新意茶餐厅","省级",{"$f":"VLOOKUP(A614,'[1]2024年薪酬调查定点调查企业名单'!$B:$E,4,0)","v":"蓬江区"}]
["联新（开平）高性能纤维第二有限公司","省级",{"$f":"VLOOKUP(A615,'[1]2024年薪酬调查定点调查企业名单'!$B:$E,4,0)","v":"开平市"}]